BEGIN:VCALENDAR
VERSION:2.0
PRODID:-//ChamberMaster//Event Calendar 2.0//EN
METHOD:PUBLISH
X-PUBLISHED-TTL:P3D
REFRESH-INTERVAL:P3D
CALSCALE:GREGORIAN
BEGIN:VEVENT
DTSTART:20161020T170000Z
DTEND:20161021T000000Z
X-MICROSOFT-CDO-ALLDAYEVENT:FALSE
SUMMARY:Business Expo - Grow your business and improve your bottom line - Register Today!
DESCRIPTION:BC Small Business Month &\n\nNational Manufacturing Month\n\n\n\nThis October 20\, position your business as a leader in your industry and\n\nbuild confidence in your prospects with this cost effective face-to-face\n\nopportunity to complement your marketing activities.\n\n\n\nSMALL BUSINESS INFORMATION EXPO   Public Works Canada features 20+ booths with information and\n\nconnections to government business support programs.\n\n\n\nLUNCHEON WITH KEYNOTE SPEAKER   Sponsored by the VIU MBA Program & Internship. \n\nSpeaker - "Andrew Wynn-Williams   CME   Manufacturing Growth\, Innovation and Prosperity for Canada"\n\n \n\n\n\nThe Canadian Manufacturers and Exporters Association will also present a luncheon with a keynote speaker on the subject of "Enhancing International Trade & Export from Vancouver Island".\n\n\n\nBREAK OUT SESSIONS   hosted by Public Works Canada and the CME sponsored by Vancouver Island University\n\n\n\nVANCOUVER ISLAND CONFERENCE CENTRE TRADE SHOW -- over 100 businesses on the exhibit floor to introduce their products\, services\, and technology to help you grow and improve your bottom line.\n\n\n\nCOMMUNITY FUTURES AWARDS AND AFTER PARTY AT THE COAST BASTION  network\, relax\, enjoy an\n\nadult beverage on us and appies by the Coast while you find out whose booth won the 'Best Of' Award.\n\n\n\nWin one of two Grand Prizes from London Drugs\n\nLG 49' 4K ultra high definition Smart TV \n\nwith a blu-ray player and a computer technician package\n\nTotal Value $2\,500\n\nBristol Eucalyptus 5 piece Dining Set\n\nValue $1\,400
X-ALT-DESC;FMTTYPE=text/html:BC Small Business Month &amp\;<br />\nNational Manufacturing Month<br />\n<br />\nThis October 20\, position your business as a leader in your industry and<br />\nbuild confidence in your prospects with this cost effective face-to-face<br />\nopportunity to complement your marketing activities.<br />\n<br />\n<strong>SMALL BUSINESS INFORMATION EXPO</strong> &ndash\; Public Works Canada features 20+ booths with information and<br />\nconnections to government business support programs.<br />\n<br />\n<strong>LUNCHEON WITH KEYNOTE SPEAKER &ndash\; Sponsored by the VIU MBA Program &amp\; Internship.&nbsp\;</strong><br />\nSpeaker - &ldquo\;<strong>Andrew Wynn-Williams &mdash\; CME &mdash\; Manufacturing Growth\, Innovation and Prosperity for Canada&quot\;<br />\n&nbsp\;</strong><br />\n<br />\n<span style="color: rgb(102\, 102\, 102)\; font-family: Arial\, Helvetica\, Verdana\, sans-serif\; font-size: 13px\; background-color: rgb(248\, 248\, 248)\;">The</span><span style="color: rgb(102\, 102\, 102)\; font-family: Arial\, Helvetica\, Verdana\, sans-serif\; font-size: 13px\; background-color: rgb(248\, 248\, 248)\;"> Canadian Manufacturers and Exporters Association will also present a luncheon with a keynote speaker on the subject of &ldquo\;Enhancing International Trade &amp\; Export from Vancouver Island&rdquo\;.</span><br />\n<br />\n<strong>BREAK OUT SESSIONS &ndash\; hosted by Public Works Canada and the CME sponsored by Vancouver Island University</strong><br />\n<br />\n<strong>VANCOUVER ISLAND CONFERENCE CENTRE TRADE SHOW</strong> -- over 100 businesses on the exhibit floor to introduce their products\, services\, and technology to help you grow and improve your bottom line.<br />\n<br />\n<strong>COMMUNITY FUTURES AWARDS AND AFTER PARTY AT THE COAST BASTION&hellip\;</strong> network\, relax\, enjoy an<br />\nadult beverage on us and appies by the Coast while you find out whose booth won the &lsquo\;Best Of&rsquo\; Award.<br />\n<br />\n<u><strong>Win one of two Grand Prizes from London Drugs</strong></u><br />\n<span style="font-family:calibri\,sans-serif\;"><span style="font-size:11.0pt\;">LG 49&rsquo\; 4K ultra high definition Smart TV&nbsp\;<br />\nwith a blu-ray player and a computer technician package<br />\nTotal Value $2\,500<br />\nBristol Eucalyptus 5 piece Dining Set<br />\nValue $1\,400<br />\n<br />\n<br />\n&nbsp\;</span></span><br />\n&nbsp\;
LOCATION:Vancouver Island Conference Centre
UID:e.1345.480
SEQUENCE:3
DTSTAMP:20260420T033510Z
URL:https://members.nanaimochamber.bc.ca/events/details/business-expo-grow-your-business-and-improve-your-bottom-line-register-today-480
END:VEVENT

END:VCALENDAR
