BEGIN:VCALENDAR
VERSION:2.0
PRODID:-//ChamberMaster//Event Calendar 2.0//EN
METHOD:PUBLISH
X-PUBLISHED-TTL:P3D
REFRESH-INTERVAL:P3D
CALSCALE:GREGORIAN
BEGIN:VEVENT
DTSTART:20170505T013000Z
DTEND:20170505T043000Z
X-MICROSOFT-CDO-ALLDAYEVENT:FALSE
SUMMARY:Business & Community Achievement Awards
DESCRIPTION:2017 BUSINESS AND COMMUNITY\n\nACHIEVEMENT AWARDS\n\n On Thursday\, May 4th\, 2017\, the Greater Nanaimo Chamber of Commerce recognizes 'leaders and achievers' in the 16th Annual celebration of Nanaimo's business community for their achievements this year.\n\nLast year\, some four hundred people celebrated the nominees and winners in an 'Oscar-night' style event. Jazz in the lobby and a 10-piece band on stage welcomed winners\, their families and friends during a fantastic evening.\n\n"Awards Night" is the culmination of a process that starts with open\, public nominations of over a hundred businesses chosen by their followers in the community. "The Awards" recognize a commitment to quality product development and service delivery by an individual or a group\, and a sign of the community's appreciation. This year\, there is a heightened emphasis on 'community'\, as indicated in the name change. This recognizes the many community activities that are an integral part of the business community. It also a reminder of our brand statement   "Better Community Through Better Business".\n\n"The Awards" create local pride-of-place by inviting friendly competitiveness within the business community.  If you have a friend in business or your network who deserves recognition   nominate them! Any business in the region can nominate themselves\, colleagues\, employers\, or employees.\n\nThursday\, May 4th\, 2017\n\nThe Port Theatre\, Nanaimo
X-ALT-DESC;FMTTYPE=text/html:<p style="box-sizing: border-box\; margin: 0.85em 0px\; padding: 0px\; border: 0px rgb(225\, 225\, 225)\; font-variant-numeric: inherit\; font-stretch: inherit\; font-size: 13px\; line-height: inherit\; font-family: Arial\, Helvetica\, Verdana\, sans-serif\; vertical-align: baseline\; color: rgb(102\, 102\, 102)\; background-color: rgb(248\, 248\, 248)\;"><strong style="box-sizing: border-box\; margin: 0px\; padding: 0px\; border: 0px rgb(225\, 225\, 225)\; font-style: inherit\; font-variant: inherit\; font-stretch: inherit\; font-size: inherit\; line-height: inherit\; font-family: inherit\; vertical-align: baseline\; color: rgb(41\, 151\, 171)\;">2017 BUSINESS AND COMMUNITY</strong></p>\n\n<p style="box-sizing: border-box\; margin: 0.85em 0px\; padding: 0px\; border: 0px rgb(225\, 225\, 225)\; font-variant-numeric: inherit\; font-stretch: inherit\; font-size: 13px\; line-height: inherit\; font-family: Arial\, Helvetica\, Verdana\, sans-serif\; vertical-align: baseline\; color: rgb(102\, 102\, 102)\; background-color: rgb(248\, 248\, 248)\;"><strong style="box-sizing: border-box\; margin: 0px\; padding: 0px\; border: 0px rgb(225\, 225\, 225)\; font-style: inherit\; font-variant: inherit\; font-stretch: inherit\; font-size: inherit\; line-height: inherit\; font-family: inherit\; vertical-align: baseline\; color: rgb(41\, 151\, 171)\;">ACHIEVEMENT AWARDS</strong></p>\n\n<p style="box-sizing: border-box\; margin: 0.85em 0px\; padding: 0px\; border: 0px rgb(225\, 225\, 225)\; font-variant-numeric: inherit\; font-stretch: inherit\; font-size: 13px\; line-height: inherit\; font-family: Arial\, Helvetica\, Verdana\, sans-serif\; vertical-align: baseline\; color: rgb(102\, 102\, 102)\; background-color: rgb(248\, 248\, 248)\;"><strong style="box-sizing: border-box\; margin: 0px\; padding: 0px\; border: 0px rgb(225\, 225\, 225)\; font-style: inherit\; font-variant: inherit\; font-stretch: inherit\; font-size: inherit\; line-height: inherit\; font-family: inherit\; vertical-align: baseline\; color: rgb(41\, 151\, 171)\;">&nbsp\;</strong>On Thursday\, May 4th\, 2017\, the Greater Nanaimo Chamber of Commerce recognizes &lsquo\;leaders and achievers&rsquo\; in the 16<sup style="box-sizing: border-box\; margin: 0px\; padding: 0px\; border: 0px rgb(225\, 225\, 225)\; font-style: inherit\; font-variant: inherit\; font-weight: inherit\; font-stretch: inherit\; line-height: inherit\; font-family: inherit\;">th</sup>&nbsp\;Annual celebration of Nanaimo&rsquo\;s business community for their achievements this year.</p>\n\n<p style="box-sizing: border-box\; margin: 0.85em 0px\; padding: 0px\; border: 0px rgb(225\, 225\, 225)\; font-variant-numeric: inherit\; font-stretch: inherit\; font-size: 13px\; line-height: inherit\; font-family: Arial\, Helvetica\, Verdana\, sans-serif\; vertical-align: baseline\; color: rgb(102\, 102\, 102)\; background-color: rgb(248\, 248\, 248)\;">Last year\, some four hundred people celebrated the nominees and winners in an &lsquo\;Oscar-night&rsquo\; style event. Jazz in the lobby and a 10-piece band on stage welcomed winners\, their families and friends during a fantastic evening.</p>\n\n<p style="box-sizing: border-box\; margin: 0.85em 0px\; padding: 0px\; border: 0px rgb(225\, 225\, 225)\; font-variant-numeric: inherit\; font-stretch: inherit\; font-size: 13px\; line-height: inherit\; font-family: Arial\, Helvetica\, Verdana\, sans-serif\; vertical-align: baseline\; color: rgb(102\, 102\, 102)\; background-color: rgb(248\, 248\, 248)\;"><strong style="box-sizing: border-box\; margin: 0px\; padding: 0px\; border: 0px rgb(225\, 225\, 225)\; font-style: inherit\; font-variant: inherit\; font-stretch: inherit\; font-size: inherit\; line-height: inherit\; font-family: inherit\; vertical-align: baseline\; color: rgb(41\, 151\, 171)\;">&ldquo\;Awards Night&rdquo\;</strong>&nbsp\;is the culmination of a process that starts with open\, public nominations of over a hundred businesses chosen by their followers in the community.&nbsp\;<strong style="box-sizing: border-box\; margin: 0px\; padding: 0px\; border: 0px rgb(225\, 225\, 225)\; font-style: inherit\; font-variant: inherit\; font-stretch: inherit\; font-size: inherit\; line-height: inherit\; font-family: inherit\; vertical-align: baseline\; color: rgb(41\, 151\, 171)\;">&ldquo\;The Awards&rdquo\;</strong>&nbsp\;recognize a commitment to quality product development and service delivery by an individual or a group\, and a sign of the community&rsquo\;s appreciation. This year\, there is a heightened emphasis on &lsquo\;community&rsquo\;\, as indicated in the name change. This recognizes the many community activities that are an integral part of the business community. It also a reminder of our brand statement &ndash\; &ldquo\;Better Community Through Better Business&rdquo\;.</p>\n\n<p style="box-sizing: border-box\; margin: 0.85em 0px\; padding: 0px\; border: 0px rgb(225\, 225\, 225)\; font-variant-numeric: inherit\; font-stretch: inherit\; font-size: 13px\; line-height: inherit\; font-family: Arial\, Helvetica\, Verdana\, sans-serif\; vertical-align: baseline\; color: rgb(102\, 102\, 102)\; background-color: rgb(248\, 248\, 248)\;"><strong style="box-sizing: border-box\; margin: 0px\; padding: 0px\; border: 0px rgb(225\, 225\, 225)\; font-style: inherit\; font-variant: inherit\; font-stretch: inherit\; font-size: inherit\; line-height: inherit\; font-family: inherit\; vertical-align: baseline\; color: rgb(41\, 151\, 171)\;">&ldquo\;The Awards&rdquo\;</strong>&nbsp\;create local pride-of-place by inviting friendly competitiveness within the business community. &nbsp\;If you have a friend in business or your network who deserves recognition &ndash\; nominate them! Any business in the region can nominate themselves\, colleagues\, employers\, or employees.</p>\n\n<p style="box-sizing: border-box\; margin: 0.85em 0px\; padding: 0px\; border: 0px rgb(225\, 225\, 225)\; font-variant-numeric: inherit\; font-stretch: inherit\; font-size: 13px\; line-height: inherit\; font-family: Arial\, Helvetica\, Verdana\, sans-serif\; vertical-align: baseline\; color: rgb(102\, 102\, 102)\; background-color: rgb(248\, 248\, 248)\;">Thursday\, May 4th\, 2017</p>\n\n<p style="box-sizing: border-box\; margin: 0.85em 0px\; padding: 0px\; border: 0px rgb(225\, 225\, 225)\; font-variant-numeric: inherit\; font-stretch: inherit\; font-size: 13px\; line-height: inherit\; font-family: Arial\, Helvetica\, Verdana\, sans-serif\; vertical-align: baseline\; color: rgb(102\, 102\, 102)\; background-color: rgb(248\, 248\, 248)\;">The Port Theatre\, Nanaimo</p>\n
LOCATION:The Port Theatre
UID:e.1345.537
SEQUENCE:3
DTSTAMP:20260419T144939Z
URL:https://members.nanaimochamber.bc.ca/events/details/business-community-achievement-awards-537
END:VEVENT

END:VCALENDAR
