BEGIN:VCALENDAR
VERSION:2.0
PRODID:-//ChamberMaster//Event Calendar 2.0//EN
METHOD:PUBLISH
X-PUBLISHED-TTL:P3D
REFRESH-INTERVAL:P3D
CALSCALE:GREGORIAN
BEGIN:VEVENT
DTSTART:20161116T153000Z
DTEND:20161116T170000Z
X-MICROSOFT-CDO-ALLDAYEVENT:FALSE
SUMMARY:Business Before Business - meet the new staff at the Chamber
DESCRIPTION:Your very own Nanaimo Chamber of Commerce will be hosting the next Business Before Business! Meet your hardworking Chamber staff\, enjoy a continental breakfast\, and tell us what else we can do for you\, our members! Oh  and network\, network\, network
X-ALT-DESC;FMTTYPE=text/html:<span style="color:#161D26\;"><span style="font-family:arial\,sans-serif\;"><span style="font-size:10.5pt\;">Your very own Nanaimo Chamber of Commerce will be hosting the next Business Before Business! Meet your hardworking Chamber staff\, enjoy a continental breakfast\, and tell us what else we can do for you\, our members! Oh&hellip\; and network\, network\, network</span></span></span>
LOCATION:2133 Bowen Road Nanaimo BC V9S 1H8 *Parking in the back
UID:e.1345.467
SEQUENCE:3
DTSTAMP:20260420T000818Z
URL:https://members.nanaimochamber.bc.ca/events/details/business-before-business-meet-the-new-staff-at-the-chamber-467
END:VEVENT

END:VCALENDAR
