BEGIN:VCALENDAR
VERSION:2.0
PRODID:-//ChamberMaster//Event Calendar 2.0//EN
METHOD:PUBLISH
X-PUBLISHED-TTL:P3D
REFRESH-INTERVAL:P3D
CALSCALE:GREGORIAN
BEGIN:VEVENT
DTSTART:20170315T143000Z
DTEND:20170315T160000Z
X-MICROSOFT-CDO-ALLDAYEVENT:FALSE
SUMMARY:Business Before Business - GT Hiring Solutions
DESCRIPTION:Business Before Business: GT Hiring Solutions\n\n #101-155 Skinner Street\n\nNanaimo\, BC  V9R 5E8\n\n \n\nContact person is John Tait\, 250-714-0085\, ext. 236
X-ALT-DESC;FMTTYPE=text/html:Business Before Business: <strong>GT Hiring Solutions</strong><br />\n&nbsp\;#101-155 Skinner Street<br />\nNanaimo\, BC&nbsp\; V9R 5E8<br />\n&nbsp\;<br />\nContact person is John Tait\, 250-714-0085\, ext. 236
LOCATION:
UID:e.1345.507
SEQUENCE:3
DTSTAMP:20260419T191811Z
URL:https://members.nanaimochamber.bc.ca/events/details/business-before-business-gt-hiring-solutions-507
END:VEVENT

END:VCALENDAR
