BEGIN:VCALENDAR
VERSION:2.0
PRODID:-//ChamberMaster//Event Calendar 2.0//EN
METHOD:PUBLISH
X-PUBLISHED-TTL:P3D
REFRESH-INTERVAL:P3D
CALSCALE:GREGORIAN
BEGIN:VEVENT
DTSTART:20161019T143000Z
DTEND:20161019T160000Z
X-MICROSOFT-CDO-ALLDAYEVENT:FALSE
SUMMARY:Business Before Business - Clay Tree Society
DESCRIPTION:Clay Tree Society   Support For People with Developmental Disabilities\n\nFounded in 1957\, Clay Tree Society is a private\, non-profit agency providing community integration programs to individuals 19 years and older.\n\nCommitted to incorporating person-centered planning for its participants through a network of support\, all programs are designed to assist individuals with leading rich\, fulfilling lives and facilitate self-determination.\n\nOur programs reflect the strengths and needs of individuals with developmental disabilities and provide support in the pursuit of their goals.\n\nAll participants attending our programs are referred by Community Living British Columbia (CLBC).\n\nFor more information on applying for any of the programs associated with Clay Tree Society please contact us.
X-ALT-DESC;FMTTYPE=text/html:<h2 style="background: rgb(244\, 242\, 231)\; border: 0px\; margin: 0px 0px 20px\; padding: 0px\; vertical-align: baseline\; clear: both\; font-weight: normal\; font-size: 20px\; line-height: 1.5em\; font-family: Arial\, Helvetica\, sans-serif\;">Clay&nbsp\;Tree Society &ndash\; Support&nbsp\;For People with Developmental Disabilities</h2>\n\n<p style="background: rgb(244\, 242\, 231)\; border: 0px\; margin: 0px 0px 24px\; padding: 0px\; vertical-align: baseline\; color: rgb(51\, 51\, 51)\; font-family: Arial\, Helvetica\, sans-serif\; font-size: 14px\;"><em id="__mceDel" style="background: transparent\; border: 0px\; margin: 0px\; padding: 0px\; vertical-align: baseline\;">Founded in 1957\, Clay Tree Society is a private\, non-profit agency providing community integration programs to individuals 19 years and older.</em></p>\n\n<p style="background: rgb(244\, 242\, 231)\; border: 0px\; margin: 0px 0px 24px\; padding: 0px\; vertical-align: baseline\; color: rgb(51\, 51\, 51)\; font-family: Arial\, Helvetica\, sans-serif\; font-size: 14px\;">Committed to incorporating person-centered planning for its participants through a network of support\, all programs are designed to assist individuals with leading rich\, fulfilling lives and facilitate self-determination.</p>\n\n<p style="background: rgb(244\, 242\, 231)\; border: 0px\; margin: 0px 0px 24px\; padding: 0px\; vertical-align: baseline\; color: rgb(51\, 51\, 51)\; font-family: Arial\, Helvetica\, sans-serif\; font-size: 14px\;">Our programs reflect the strengths and needs of individuals with developmental disabilities and provide support in the pursuit of their goals.</p>\n\n<p style="background: rgb(244\, 242\, 231)\; border: 0px\; margin: 0px 0px 24px\; padding: 0px\; vertical-align: baseline\; color: rgb(51\, 51\, 51)\; font-family: Arial\, Helvetica\, sans-serif\; font-size: 14px\;">All participants attending our programs are referred by Community Living British Columbia (<a href="http://www.communitylivingbc.ca/" style="background: transparent\; border: 0px\; margin: 0px\; padding: 0px\; vertical-align: baseline\; color: rgb(154\, 54\, 0)\;">CLBC</a>).<br />\nFor more information on applying for any of the programs associated with Clay Tree Society please&nbsp\;<a href="http://claytree.org/contact/" style="background: transparent\; border: 0px\; margin: 0px\; padding: 0px\; vertical-align: baseline\; color: rgb(154\, 54\, 0)\;">contact us</a>.</p>\n
LOCATION:838 Old Victoria Road\, Nanaimo\, BC V9R 6A1
UID:e.1345.465
SEQUENCE:3
DTSTAMP:20260420T014720Z
URL:https://members.nanaimochamber.bc.ca/events/details/business-before-business-clay-tree-society-465
END:VEVENT

END:VCALENDAR
