BEGIN:VCALENDAR
VERSION:2.0
PRODID:-//ChamberMaster//Event Calendar 2.0//EN
METHOD:PUBLISH
X-PUBLISHED-TTL:P3D
REFRESH-INTERVAL:P3D
CALSCALE:GREGORIAN
BEGIN:VEVENT
DTSTART:20160921T143000Z
DTEND:20160921T160000Z
X-MICROSOFT-CDO-ALLDAYEVENT:FALSE
SUMMARY:Business Before Business -Array Studios - Creative & Curious Thinkers - FREE Networking Event
DESCRIPTION:Array Web + Creative is a family of innovative & curious thinkers in love with marketing\, web & design. Trust us to help you bring great ideas to fruition.\n\n\n\n\n\n\n \n\n\n\n\nSave\n\n\n\n\n\n410-256 Wallace St\nNanaimo\, BC\n\n\n\n\n\n\n\n \n\n(250) 591-2277
X-ALT-DESC;FMTTYPE=text/html:<div class="_1ip0" style="float: left\; margin-right: 10px\; width: 341px\; font-family: inherit\;">\n<div class="_3-8y" style="margin-top: 12px\; font-family: inherit\;">\n<div class="_c24 _50f3" style="font-size: 12px\; line-height: 16px\; color: rgb(75\, 79\, 86)\; font-family: inherit\;">Array Web + Creative is a family of innovative &amp\; curious thinkers in love with marketing\, web &amp\; design. Trust us to help you bring great ideas to fruition.</div>\n</div>\n</div>\n\n<div class="_1ip1" style="margin-top: -6px\; overflow: hidden\; width: 207px\; font-family: inherit\;">\n<div class="_4nq6" style="font-size: 12px\; line-height: 16px\; padding: 8px 12px\; font-family: inherit\;">\n<div class="clearfix" style="zoom: 1\; font-family: inherit\;">\n<div class="_3-90 _d5u lfloat _ohe" style="float: left\; margin-right: 8px\; height: 16px\; width: 16px\; font-family: inherit\;">&nbsp\;</div>\n\n<div class="clearfix _42ef" style="zoom: 1\; overflow: hidden\; font-family: inherit\;">\n<div class="rfloat _ohf" style="float: right\; font-family: inherit\;">\n<div class="_6a _6e _4-lv" style="display: inline-block\; vertical-align: top\; margin-left: 5px\; font-family: inherit\;">\n<div class="_12js" data-ft="{&quot\;tn&quot\;:&quot\;+n&quot\;\,&quot\;type&quot\;:105}" id="u_0_y" style="display: inline-block\; font-family: inherit\;"><a ajaxify="/save/story/?object_id=112008028819953&amp\;action=SAVE&amp\;surface=owned_page&amp\;mechanism=toggle_button" class="_12jp medium _t6k _4er2" data-hover="tooltip" data-tooltip-alignh="right" data-tooltip-content="Click to save. Only you can see the things you save." href="https://www.facebook.com/ArrayStudios/info/?entry_point=page_nav_about_item&amp\;tab=overview#" id="u_0_g" rel="async-post" role="button" style="color: rgb(54\, 88\, 153)\; cursor: pointer\; text-decoration: none\; display: inline-block\; font-family: inherit\;">Save</a></div>\n</div>\n</div>\n\n<div class="_42ef" style="overflow: hidden\; font-family: inherit\;">\n<div class="_6a _5u5j _6b" style="display: inline-block\; vertical-align: middle\; width: 112px\; font-family: inherit\;">\n<div class="ellipsis _50f3" data-hover="tooltip" id="u_0_j" style="overflow: hidden\; text-overflow: ellipsis\; white-space: nowrap\; font-family: inherit\;"><a href="http://l.facebook.com/l.php?u=http%3A%2F%2Fshare.here.com%2Fr%2Fmylocation%2Fe-eyJuYW1lIjoiQXJyYXkgV2ViICsgQ3JlYXRpdmUiLCJhZGRyZXNzIjoiNDEwLTI1NiBXYWxsYWNlIFN0LCBOYW5haW1vLCBCcml0aXNoIENvbHVtYmlhIiwibGF0aXR1ZGUiOjQ5LjE2NjA5MzYyMTgyMywibG9uZ2l0dWRlIjotMTIzLjk0MDE0NDQzNjQ5LCJwcm92aWRlck5hbWUiOiJmYWNlYm9vayIsInByb3ZpZGVySWQiOjExMjAwODAyODgxOTk1M30%3D%3Flink%3Daddresses%26fb_locale%3Den_US%26ref%3Dfacebook&amp\;h=ZAQHSVsw5&amp\;s=1" id="u_0_i" rel="nofollow" style="color: rgb(54\, 88\, 153)\; cursor: pointer\; text-decoration: none\; font-family: inherit\;" target="_blank">410-256 Wallace St</a></div>\n<a href="http://l.facebook.com/l.php?u=http%3A%2F%2Fshare.here.com%2Fr%2Fmylocation%2Fe-eyJuYW1lIjoiQXJyYXkgV2ViICsgQ3JlYXRpdmUiLCJhZGRyZXNzIjoiNDEwLTI1NiBXYWxsYWNlIFN0LCBOYW5haW1vLCBCcml0aXNoIENvbHVtYmlhIiwibGF0aXR1ZGUiOjQ5LjE2NjA5MzYyMTgyMywibG9uZ2l0dWRlIjotMTIzLjk0MDE0NDQzNjQ5LCJwcm92aWRlck5hbWUiOiJmYWNlYm9vayIsInByb3ZpZGVySWQiOjExMjAwODAyODgxOTk1M30%3D%3Flink%3Daddresses%26fb_locale%3Den_US%26ref%3Dfacebook&amp\;h=ZAQHSVsw5&amp\;s=1" id="u_0_i" rel="nofollow" style="color: rgb(54\, 88\, 153)\; cursor: pointer\; text-decoration: none\; font-family: inherit\;" target="_blank">Nanaimo<span style="font-family: inherit\;">\,&nbsp\;</span>BC</a></div>\n</div>\n</div>\n</div>\n</div>\n\n<div class="_4nq6" style="font-size: 12px\; line-height: 16px\; padding: 8px 12px\; font-family: inherit\;">\n<div class="clearfix" style="zoom: 1\; font-family: inherit\;">\n<div class="_3-90 _d5u lfloat _ohe" style="float: left\; margin-right: 8px\; height: 16px\; width: 16px\; font-family: inherit\;">&nbsp\;</div>\n\n<div class="_2n7q ellipsis _42ef _c24 _50f3" style="overflow: hidden\; text-overflow: ellipsis\; white-space: nowrap\; color: rgb(75\, 79\, 86)\; font-family: inherit\;">(250) 591-2277</div>\n</div>\n</div>\n\n<div class="_4nq6 _10-m" style="font-size: 12px\; line-height: 16px\; padding: 8px 12px\; font-family: inherit\;">\n<div class="clearfix" style="zoom: 1\; font-family: inherit\;">&nbsp\;</div>\n</div>\n</div>\n
LOCATION:410 - 256 Wallace St Nanaimo\, BC V9R 5B3 e info@arraystudios.com t 250.591.2277 f 250.591.2270
UID:e.1345.463
SEQUENCE:3
DTSTAMP:20260420T045615Z
URL:https://members.nanaimochamber.bc.ca/events/details/business-before-business-array-studios-creative-curious-thinkers-free-networking-event-463
END:VEVENT

END:VCALENDAR
