BEGIN:VCALENDAR
VERSION:2.0
PRODID:-//ChamberMaster//Event Calendar 2.0//EN
METHOD:PUBLISH
X-PUBLISHED-TTL:P3D
REFRESH-INTERVAL:P3D
CALSCALE:GREGORIAN
BEGIN:VEVENT
DTSTART:20160120T153000Z
DTEND:20160120T170000Z
X-MICROSOFT-CDO-ALLDAYEVENT:FALSE
SUMMARY:Business Before Business
DESCRIPTION:
X-ALT-DESC;FMTTYPE=text/html:
LOCATION:Nanaimo Youth Services Association 290 Bastion Street (Fraser Street is the place to go to get parking) Staff Parking
UID:e.1345.248
SEQUENCE:3
DTSTAMP:20260420T161318Z
URL:https://members.nanaimochamber.bc.ca/events/details/business-before-business-01-20-2016-248
END:VEVENT

END:VCALENDAR
