BEGIN:VCALENDAR
VERSION:2.0
PRODID:-//ChamberMaster//Event Calendar 2.0//EN
METHOD:PUBLISH
X-PUBLISHED-TTL:P3D
REFRESH-INTERVAL:P3D
CALSCALE:GREGORIAN
BEGIN:VEVENT
DTSTART:20120118T153000Z
DTEND:20120118T163000Z
X-MICROSOFT-CDO-ALLDAYEVENT:FALSE
SUMMARY:Business before Business
DESCRIPTION:Where: Longlake Chateau\, 3035 Ross Rd.
X-ALT-DESC;FMTTYPE=text/html:<div>\n	<b>Where:</b> Longlake Chateau\, 3035 Ross Rd.</div>
LOCATION:
UID:e.1345.5
SEQUENCE:3
DTSTAMP:20260423T221708Z
URL:https://members.nanaimochamber.bc.ca/events/details/business-before-business-01-18-2012-5
END:VEVENT

END:VCALENDAR
