BEGIN:VCALENDAR
VERSION:2.0
PRODID:-//ChamberMaster//Event Calendar 2.0//EN
METHOD:PUBLISH
X-PUBLISHED-TTL:P3D
REFRESH-INTERVAL:P3D
CALSCALE:GREGORIAN
BEGIN:VEVENT
DTSTART:20161125T010000Z
DTEND:20161125T030000Z
X-MICROSOFT-CDO-ALLDAYEVENT:FALSE
SUMMARY:Business After Business Westmark Construction
DESCRIPTION:Westmark Construction has built a reputation for excellence through more than 25 years of construction experience on Vancouver Island & the Lower Mainland.\n\n\n\nWhen parking your vehicle\, please respect the nearby residences and ensure that you are not blocking or using their parking spaces.
X-ALT-DESC;FMTTYPE=text/html:<span style="color: rgb(75\, 79\, 86)\; font-family: helvetica\, arial\, sans-serif\; font-size: 12px\; line-height: 16px\; background-color: rgb(255\, 255\, 255)\;">Westmark Construction has built a reputation for excellence through more than 25 years of construction experience on Vancouver Island &amp\; the Lower Mainland.<br />\n<br />\nWhen parking your vehicle\, please respect the nearby residences and ensure that you are not blocking or using their parking spaces.</span>
LOCATION:Westmark Construction Pacific Station Townhomes #111-5240 Dublin Way Nanaimo\, V9T 0H2 (on the corner of Island Hwy & Metral Dr.)
UID:e.1345.468
SEQUENCE:3
DTSTAMP:20260420T000613Z
URL:https://members.nanaimochamber.bc.ca/events/details/business-after-business-westmark-construction-468
END:VEVENT

END:VCALENDAR
