BEGIN:VCALENDAR
VERSION:2.0
PRODID:-//ChamberMaster//Event Calendar 2.0//EN
METHOD:PUBLISH
X-PUBLISHED-TTL:P3D
REFRESH-INTERVAL:P3D
CALSCALE:GREGORIAN
BEGIN:VEVENT
DTSTART:20170224T010000Z
DTEND:20170224T030000Z
X-MICROSOFT-CDO-ALLDAYEVENT:FALSE
SUMMARY:Business After Business Smythe CPA & Smythe Insolvency Inc.
DESCRIPTION:Smythe is a British Columbia based accounting firm recognized for exceptional work in the areas of assurance\, taxation\, insolvency and advisory services for individuals and private and public companies.  Founded in 1980\, Smythe has grown into one of BC's top accounting firms with over 180 staff and partners\, and offices in Vancouver\, North Vancouver\, Langley\, Victoria and Nanaimo.  Please come and meet the local staff and check out our new location at 201-1825 Bowen Road.
X-ALT-DESC;FMTTYPE=text/html:Smythe is a British Columbia based accounting firm recognized for exceptional work in the areas of assurance\, taxation\, insolvency and advisory services for individuals and private and public companies.&nbsp\; Founded in 1980\, Smythe has grown into one of BC&#39\;s top accounting firms with over 180 staff and partners\, and offices in Vancouver\, North Vancouver\, Langley\, Victoria and Nanaimo.&nbsp\; Please come and meet the local staff and check out our new location at 201-1825 Bowen Road.<br />\n&nbsp\;
LOCATION:
UID:e.1345.505
SEQUENCE:3
DTSTAMP:20260419T192121Z
URL:https://members.nanaimochamber.bc.ca/events/details/business-after-business-smythe-cpa-smythe-insolvency-inc-505
END:VEVENT

END:VCALENDAR
