BEGIN:VCALENDAR
VERSION:2.0
PRODID:-//ChamberMaster//Event Calendar 2.0//EN
METHOD:PUBLISH
X-PUBLISHED-TTL:P3D
REFRESH-INTERVAL:P3D
CALSCALE:GREGORIAN
BEGIN:VEVENT
DTSTART:20170127T010000Z
DTEND:20170127T030000Z
X-MICROSOFT-CDO-ALLDAYEVENT:FALSE
SUMMARY:Business After Business - Simon Holt
DESCRIPTION:Networking Event - free to all members
X-ALT-DESC;FMTTYPE=text/html:Networking Event - free to all members
LOCATION:Simon Holt 6582 Applecross Road\, Nanaimo\, BC\, V9V 1A3
UID:e.1345.504
SEQUENCE:3
DTSTAMP:20260419T222934Z
URL:https://members.nanaimochamber.bc.ca/events/details/business-after-business-simon-holt-504
END:VEVENT

END:VCALENDAR
