BEGIN:VCALENDAR
VERSION:2.0
PRODID:-//ChamberMaster//Event Calendar 2.0//EN
METHOD:PUBLISH
X-PUBLISHED-TTL:P3D
REFRESH-INTERVAL:P3D
CALSCALE:GREGORIAN
BEGIN:VEVENT
DTSTART:20170630T000000Z
DTEND:20170630T020000Z
X-MICROSOFT-CDO-ALLDAYEVENT:FALSE
SUMMARY:Business After Business Nanaimo Golf Course
DESCRIPTION:Join fellow Chamber members and special guests at the next Business After Business networking mixer. June's BAB will be held at the stunning clubhouse at the Nanaimo Golf Club.\n\n Enjoy outstanding views and surroundings\, sipping cold ones on a beautiful patio\, or take a tour of the beautifully renovated facility. And of course\, delight in some scrumptious appetizers!
X-ALT-DESC;FMTTYPE=text/html:<em><span style="font-size:12pt\;">Join fellow Chamber members and special guests at the next Business After Business networking mixer. June&rsquo\;s BAB will be held at the stunning clubhouse at the Nanaimo Golf Club.</span></em><br />\n&nbsp\;<em><span style="font-size:12pt\;">Enjoy outstanding views and surroundings\, sipping cold ones on a beautiful patio\, or take a tour of the beautifully renovated facility. And of course\, delight in some scrumptious appetizers!</span></em>
LOCATION:
UID:e.1345.551
SEQUENCE:3
DTSTAMP:20260419T144636Z
URL:https://members.nanaimochamber.bc.ca/events/details/business-after-business-nanaimo-golf-course-551
END:VEVENT

END:VCALENDAR
