BEGIN:VCALENDAR
VERSION:2.0
PRODID:-//ChamberMaster//Event Calendar 2.0//EN
METHOD:PUBLISH
X-PUBLISHED-TTL:P3D
REFRESH-INTERVAL:P3D
CALSCALE:GREGORIAN
BEGIN:VEVENT
DTSTART:20161028T000000Z
DTEND:20161028T020000Z
X-MICROSOFT-CDO-ALLDAYEVENT:FALSE
SUMMARY:Business After Business - Nanaimo Child Development Centre
DESCRIPTION:Nanaimo Child Development Centre\n\n\n\nAbout Us\n\nThe Nanaimo Child Development Centre (NCDC) believes in the potential of all children and is dedicated to the individuals and families we serve. Founded in 1967 and serving seven children\, the NCDC is a non-profit organization that offers a wide range of services\, programs and supports to nearly 1800 children with special needs and their families annually.\n\nThrough the tremendous support from parents\, volunteers\, businesses and the community the NCDC has grown from its humble beginnings to be a leader in early childhood development and children's services in our area. It is through these partnerships that we endeavor to continue to pursue excellence in meeting the service needs of the children and families we serve.
X-ALT-DESC;FMTTYPE=text/html:<h2 style="margin: 0.83em 0px\; font-family: &quot\;Source Sans Pro&quot\;\, sans-serif\; line-height: 15px\; color: rgb(0\, 175\, 77)\; text-rendering: optimizeLegibility\; font-size: 20px\; background-color: rgb(255\, 255\, 255)\;">Nanaimo Child Development Centre<br />\n<br />\nAbout Us</h2>\n\n<p style="margin: 1em 0px\; color: rgb(51\, 51\, 51)\; font-family: &quot\;Source Sans Pro&quot\;\, sans-serif\; font-size: 16px\; line-height: 22.4px\; background-color: rgb(255\, 255\, 255)\;">The Nanaimo Child Development Centre (NCDC) believes in the potential of all children and is dedicated to the individuals and families we serve. Founded in 1967 and serving seven children\, the NCDC is a non-profit organization that offers a wide range of services\, programs and supports to nearly 1800 children with special needs and their families annually.</p>\n\n<p style="margin: 1em 0px\; color: rgb(51\, 51\, 51)\; font-family: &quot\;Source Sans Pro&quot\;\, sans-serif\; font-size: 16px\; line-height: 22.4px\; background-color: rgb(255\, 255\, 255)\;">Through the tremendous support from parents\, volunteers\, businesses and the community the NCDC has grown from its humble beginnings to be a leader in early childhood development and children&rsquo\;s services in our area. It is through these partnerships that we endeavor to continue to pursue excellence in meeting the service needs of the children and families we serve.</p>\n
LOCATION:Nanaimo Child Development Centre 1135 Nelson Street
UID:e.1345.466
SEQUENCE:3
DTSTAMP:20260420T015426Z
URL:https://members.nanaimochamber.bc.ca/events/details/business-after-business-nanaimo-child-development-centre-466
END:VEVENT

END:VCALENDAR
