BEGIN:VCALENDAR
VERSION:2.0
PRODID:-//ChamberMaster//Event Calendar 2.0//EN
METHOD:PUBLISH
X-PUBLISHED-TTL:P3D
REFRESH-INTERVAL:P3D
CALSCALE:GREGORIAN
BEGIN:VEVENT
DTSTART:20160930T000000Z
DTEND:20160930T020000Z
X-MICROSOFT-CDO-ALLDAYEVENT:FALSE
SUMMARY:Business After Business - Looking for a NEW job - GT Hiring Solutions- Free Networking for members
DESCRIPTION:The Nanaimo WorkBC Employment Services Centre (ESC) serves as a one-stop employment services shop.  Whether you are looking for work\, interested in changing jobs\, enrolled in an apprenticeship program\, receiving Provincial Income Assistance\, receiving Federal Employment Insurance\, or just interested in what's happening in the local labour market\, you've come to the right place.
X-ALT-DESC;FMTTYPE=text/html:<h3 style="margin: 0px 0px 10px\; padding: 0px\; border: 0px\; outline: 0px\; vertical-align: baseline\; font-variant-numeric: inherit\; font-stretch: inherit\; font-size: 21px\; line-height: inherit\; font-family: &quot\;Maven Pro&quot\;\, arial\, sans-serif\; font-weight: normal\; color: rgb(71\, 94\, 157)\; background-color: rgb(255\, 255\, 255)\;">The Nanaimo WorkBC Employment Services Centre (ESC) serves as a one-stop employment services shop.&nbsp\; Whether you are looking for work\, interested in changing jobs\, enrolled in an apprenticeship program\, receiving Provincial Income Assistance\, receiving Federal Employment Insurance\, or just interested in what&rsquo\;s happening in the local labour market\, you&rsquo\;ve come to the right place.</h3>\n
LOCATION:GT Hiring Solutions 101\, 155 Skinner Street
UID:e.1345.464
SEQUENCE:3
DTSTAMP:20260420T032240Z
URL:https://members.nanaimochamber.bc.ca/events/details/business-after-business-looking-for-a-new-job-gt-hiring-solutions-free-networking-for-members-464
END:VEVENT

END:VCALENDAR
