BEGIN:VCALENDAR
VERSION:2.0
PRODID:-//ChamberMaster//Event Calendar 2.0//EN
METHOD:PUBLISH
X-PUBLISHED-TTL:P3D
REFRESH-INTERVAL:P3D
CALSCALE:GREGORIAN
BEGIN:VEVENT
DTSTART:20170324T000000Z
DTEND:20170324T020000Z
X-MICROSOFT-CDO-ALLDAYEVENT:FALSE
SUMMARY:Business After Business HELIJET
DESCRIPTION:Nanaimo Harbour Heliport\n\n100 Port Drive\n\n*also known as Port Way\n\nNanaimo BC\n\nV9R 0C7
X-ALT-DESC;FMTTYPE=text/html:Nanaimo Harbour Heliport<br />\n100 Port Drive<br />\n*also known as Port Way<br />\nNanaimo BC<br />\nV9R 0C7<br />\n&nbsp\;
LOCATION:
UID:e.1345.506
SEQUENCE:3
DTSTAMP:20260419T174511Z
URL:https://members.nanaimochamber.bc.ca/events/details/business-after-business-helijet-506
END:VEVENT

END:VCALENDAR
