BEGIN:VCALENDAR
VERSION:2.0
PRODID:-//ChamberMaster//Event Calendar 2.0//EN
METHOD:PUBLISH
X-PUBLISHED-TTL:P3D
REFRESH-INTERVAL:P3D
CALSCALE:GREGORIAN
BEGIN:VEVENT
DTSTART:20170526T000000Z
DTEND:20170526T020000Z
X-MICROSOFT-CDO-ALLDAYEVENT:FALSE
SUMMARY:Business After Business
DESCRIPTION:Nanaimo Lawn Bowling Club
X-ALT-DESC;FMTTYPE=text/html:Nanaimo Lawn Bowling Club<br />\n&nbsp\;
LOCATION:500 Bowen Road\, Nanaimo\, BC\, V9R 1Z7
UID:e.1345.509
SEQUENCE:3
DTSTAMP:20260419T144846Z
URL:https://members.nanaimochamber.bc.ca/events/details/business-after-business-509
END:VEVENT

END:VCALENDAR
