BEGIN:VCALENDAR
VERSION:2.0
PRODID:-//ChamberMaster//Event Calendar 2.0//EN
METHOD:PUBLISH
X-PUBLISHED-TTL:P3D
REFRESH-INTERVAL:P3D
CALSCALE:GREGORIAN
BEGIN:VEVENT
DTSTART:20170428T000000Z
DTEND:20170428T020000Z
X-MICROSOFT-CDO-ALLDAYEVENT:FALSE
SUMMARY:Business After Business
DESCRIPTION:DLC Canadian Mortgage Experts\n\n"Adam Hawryluk and his team at DLC Canadian Mortgage Experts are changing the flavour of the typical home financing process. They've figured out how the process can be simpler\, faster and smarter so come out and have some snacks and beverages at their office located (upstairs) in Suite 5 at 1200 Princess Royal Avenue (across from the Terminal Park McDonalds) on Thursday April 27th\, 5-7 PM. You may just walk away with a new perspective!"
X-ALT-DESC;FMTTYPE=text/html:DLC Canadian Mortgage Experts<br />\n<span style="color:#500050\;"><span style="font-size:9.5pt\;">&quot\;Adam Hawryluk and his team at DLC Canadian Mortgage Experts are changing the flavour of the typical home financing process. They&#39\;ve figured out how the process can be simpler\, faster and smarter&nbsp\;so come out and have some snacks and beverages at their office located&nbsp\;(upstairs) in Suite 5 at 1200 Princess Royal Avenue (across from the Terminal Park McDonalds) on&nbsp\;</span></span><span style="color:#500050\;"><span style="font-size:9.5pt\;">Thursday April 27th</span></span><span style="color:#500050\;"><span style="font-size:9.5pt\;">\,&nbsp\;</span></span><span style="color:#500050\;"><span style="font-size:9.5pt\;">5-7 PM</span></span><span style="color:#500050\;"><span style="font-size:9.5pt\;">. You may just walk away with a new perspective!&quot\;</span></span><br />\n&nbsp\;<br />\n&nbsp\;
LOCATION:".....in Suite 5 at 1200 Princess Royal Avenue (across from the Terminal Park McDonalds\, upstairs from the Christian Book Store)"
UID:e.1345.508
SEQUENCE:3
DTSTAMP:20260419T161932Z
URL:https://members.nanaimochamber.bc.ca/events/details/business-after-business-508
END:VEVENT

END:VCALENDAR
