BEGIN:VCALENDAR
VERSION:2.0
PRODID:-//ChamberMaster//Event Calendar 2.0//EN
METHOD:PUBLISH
X-PUBLISHED-TTL:P3D
REFRESH-INTERVAL:P3D
CALSCALE:GREGORIAN
BEGIN:VEVENT
DTSTART:20111125T010000Z
DTEND:20111125T030000Z
X-MICROSOFT-CDO-ALLDAYEVENT:FALSE
SUMMARY:Business after Business
DESCRIPTION:Business after Business networking event
X-ALT-DESC;FMTTYPE=text/html:Business after Business networking event
LOCATION:Canadian Western Bank 101 - 6475 Metral Dr. Nanaimo\, BC
UID:e.1345.1
SEQUENCE:3
DTSTAMP:20260424T011208Z
URL:https://members.nanaimochamber.bc.ca/events/details/business-after-business-11-24-2011-1
END:VEVENT

END:VCALENDAR
