BEGIN:VCALENDAR
VERSION:2.0
PRODID:-//ChamberMaster//Event Calendar 2.0//EN
METHOD:PUBLISH
X-PUBLISHED-TTL:P3D
REFRESH-INTERVAL:P3D
CALSCALE:GREGORIAN
BEGIN:VEVENT
DTSTART:20160729T000000Z
DTEND:20160729T020000Z
X-MICROSOFT-CDO-ALLDAYEVENT:FALSE
SUMMARY:Business After Business
DESCRIPTION:The Nanaimo Lawn Bowling Club season opens in April\n\nand continues through the summer months\n\nto the end of September.\n\nLeagues:\n\nOur club has a league to suit just about anyone:\n\n\n	Sight Impaired League\n	Mixed League\n	Men's League\n	Ladies' League\n\n\nand for the WINTER SEE OUR SHORT MAT SECTION for information\n\nSocial Events:\n\n\n	Sunday Tea and Bowls\n	Pot Lucks\n	Club Tournaments\n	BBQ's\n\n\nVisitors are always welcome at the club.\n\nWe invite young and those not so young\, if you are interested\,\n\nto come out and try the sport.
X-ALT-DESC;FMTTYPE=text/html:&nbsp\;\n<div style="box-sizing: border-box\; word-wrap: break-word\; font-family: &quot\;Open Sans&quot\;\, sans-serif\; font-size: 16px\; line-height: 20.8px\; text-align: center\; background-color: rgb(255\, 255\, 255)\;"><span style="box-sizing: border-box\; word-wrap: break-word\;">The Nanaimo Lawn Bowling Club season opens in&nbsp\;April</span></div>\n\n<div style="box-sizing: border-box\; word-wrap: break-word\; font-family: &quot\;Open Sans&quot\;\, sans-serif\; font-size: 16px\; line-height: 20.8px\; text-align: center\; background-color: rgb(255\, 255\, 255)\;"><span style="box-sizing: border-box\; word-wrap: break-word\;">and continues through the summer months</span></div>\n\n<div style="box-sizing: border-box\; word-wrap: break-word\; font-family: &quot\;Open Sans&quot\;\, sans-serif\; font-size: 16px\; line-height: 20.8px\; text-align: center\; background-color: rgb(255\, 255\, 255)\;"><span style="box-sizing: border-box\; word-wrap: break-word\; font-size: 12pt\;">to the end of September.</span></div>\n\n<p style="box-sizing: border-box\; word-wrap: break-word\; font-family: &quot\;Open Sans&quot\;\, sans-serif\; font-size: 16px\; line-height: 20.8px\; text-align: center\; background-color: rgb(255\, 255\, 255)\;"><span style="box-sizing: border-box\; word-wrap: break-word\;"><strong style="box-sizing: border-box\; word-wrap: break-word\;">Leagues:</strong><br style="box-sizing: border-box\; word-wrap: break-word\;" />\nOur club has a league to suit just about anyone:</span></p>\n\n<ul style="box-sizing: border-box\; word-wrap: break-word\; font-family: &quot\;Open Sans&quot\;\, sans-serif\; font-size: 16px\; line-height: 20.8px\; text-align: center\; background-color: rgb(255\, 255\, 255)\;">\n	<li style="box-sizing: border-box\; word-wrap: break-word\;"><span style="box-sizing: border-box\; word-wrap: break-word\;">Sight Impaired League</span></li>\n	<li style="box-sizing: border-box\; word-wrap: break-word\;"><span style="box-sizing: border-box\; word-wrap: break-word\;">Mixed League</span></li>\n	<li style="box-sizing: border-box\; word-wrap: break-word\;"><span style="box-sizing: border-box\; word-wrap: break-word\;">Men&rsquo\;s League</span></li>\n	<li style="box-sizing: border-box\; word-wrap: break-word\;"><span style="box-sizing: border-box\; word-wrap: break-word\;">Ladies&rsquo\; League</span></li>\n</ul>\n\n<p style="box-sizing: border-box\; word-wrap: break-word\; font-family: &quot\;Open Sans&quot\;\, sans-serif\; font-size: 16px\; line-height: 20.8px\; text-align: center\; background-color: rgb(255\, 255\, 255)\;"><span style="box-sizing: border-box\; word-wrap: break-word\;">and for the&nbsp\;<a href="http://nanaimolawnbowling.com/shortmat-section" style="box-sizing: border-box\; word-wrap: break-word\; color: rgb(51\, 51\, 51)\; border-bottom-width: 1px\; border-bottom-style: dotted\; text-decoration: none\;" target="_blank">WINTER&nbsp\;<span style="box-sizing: border-box\; word-wrap: break-word\; color: rgb(0\, 0\, 0)\;">SEE OUR SHORT MAT SECTION&nbsp\;</span></a>for information</span></p>\n\n<h1 style="box-sizing: border-box\; word-wrap: break-word\; margin: 0.67em 0px\; color: rgb(51\, 51\, 51)\; font-family: Arvo\; line-height: 20.8px\; text-align: center\; background-color: rgb(255\, 255\, 255)\;"><span style="box-sizing: border-box\; word-wrap: break-word\; color: rgb(0\, 0\, 0)\;">Social Events:</span></h1>\n\n<ul style="box-sizing: border-box\; word-wrap: break-word\; font-family: &quot\;Open Sans&quot\;\, sans-serif\; font-size: 16px\; line-height: 20.8px\; text-align: center\; background-color: rgb(255\, 255\, 255)\;">\n	<li style="box-sizing: border-box\; word-wrap: break-word\;"><span style="box-sizing: border-box\; word-wrap: break-word\;">Sunday Tea and Bowls</span></li>\n	<li style="box-sizing: border-box\; word-wrap: break-word\;"><span style="box-sizing: border-box\; word-wrap: break-word\;">Pot Lucks</span></li>\n	<li style="box-sizing: border-box\; word-wrap: break-word\;"><span style="box-sizing: border-box\; word-wrap: break-word\;">Club Tournaments</span></li>\n	<li style="box-sizing: border-box\; word-wrap: break-word\;"><span style="box-sizing: border-box\; word-wrap: break-word\;">BBQ&rsquo\;s</span></li>\n</ul>\n\n<p style="box-sizing: border-box\; word-wrap: break-word\; font-family: &quot\;Open Sans&quot\;\, sans-serif\; font-size: 16px\; line-height: 20.8px\; text-align: center\; background-color: rgb(255\, 255\, 255)\;"><span style="box-sizing: border-box\; word-wrap: break-word\;">Visitors are always welcome at the club.<br style="box-sizing: border-box\; word-wrap: break-word\;" />\nWe invite&nbsp\;young and those not so young\, if you are&nbsp\;interested\,<br style="box-sizing: border-box\; word-wrap: break-word\;" />\nto come out and try the sport.</span></p>\n\n<p style="box-sizing: border-box\; word-wrap: break-word\; font-family: &quot\;Open Sans&quot\;\, sans-serif\; font-size: 16px\; line-height: 20.8px\; text-align: center\; background-color: rgb(255\, 255\, 255)\;"><span style="box-sizing: border-box\; word-wrap: break-word\;">&nbsp\;</span></p>\n
LOCATION:
UID:e.1345.460
SEQUENCE:3
DTSTAMP:20260420T063918Z
URL:https://members.nanaimochamber.bc.ca/events/details/business-after-business-07-28-2016-460
END:VEVENT

END:VCALENDAR
