BEGIN:VCALENDAR
VERSION:2.0
PRODID:-//ChamberMaster//Event Calendar 2.0//EN
METHOD:PUBLISH
X-PUBLISHED-TTL:P3D
REFRESH-INTERVAL:P3D
CALSCALE:GREGORIAN
BEGIN:VEVENT
DTSTART:20160129T010000Z
DTEND:20160129T030000Z
X-MICROSOFT-CDO-ALLDAYEVENT:FALSE
SUMMARY:Business After Business
DESCRIPTION:Reed Family Wellness\n\nCelebrating the new spot for Reed Family Wellness\n\n#101- 3150 Island Highway North
X-ALT-DESC;FMTTYPE=text/html:Reed Family Wellness<br />\nCelebrating the new spot for Reed Family Wellness<br />\n#101- 3150 Island Highway North
LOCATION:
UID:e.1345.249
SEQUENCE:3
DTSTAMP:20260420T161346Z
URL:https://members.nanaimochamber.bc.ca/events/details/business-after-business-01-28-2016-249
END:VEVENT

END:VCALENDAR
