BEGIN:VCALENDAR
VERSION:2.0
PRODID:-//ChamberMaster//Event Calendar 2.0//EN
METHOD:PUBLISH
X-PUBLISHED-TTL:P3D
REFRESH-INTERVAL:P3D
CALSCALE:GREGORIAN
BEGIN:VEVENT
DTSTART:20120127T010000Z
DTEND:20120127T030000Z
X-MICROSOFT-CDO-ALLDAYEVENT:FALSE
SUMMARY:Business after Business
DESCRIPTION:Cancelled\n\n	\n\n	But\, don't forget to mark your calendar for the February events\n\n	\n\n	Where: 24 Carrot Catering\, c/o Legion 256\, 1630 East Wellington Rd.
X-ALT-DESC;FMTTYPE=text/html:<div>\n	<b><span style="font-size: 14px"><span style="color: #ff0000">Cancelled<br />\n	<br />\n	But\, don&#39\;t forget to mark your calendar for the February events</span></span><br />\n	<br />\n	Where:</b> 24 Carrot Catering\, c/o Legion 256\, 1630 East Wellington Rd.</div>\n
LOCATION:
UID:e.1345.8
SEQUENCE:3
DTSTAMP:20260423T222040Z
URL:https://members.nanaimochamber.bc.ca/events/details/business-after-business-01-26-2012-8
END:VEVENT

END:VCALENDAR
