BEGIN:VCALENDAR
VERSION:2.0
PRODID:-//ChamberMaster//Event Calendar 2.0//EN
METHOD:PUBLISH
X-PUBLISHED-TTL:P3D
REFRESH-INTERVAL:P3D
CALSCALE:GREGORIAN
BEGIN:VEVENT
DTSTART;VALUE=DATE:20150320
DTEND;VALUE=DATE:20150321
TRANSP:TRANSPARENT
X-MICROSOFT-CDO-ALLDAYEVENT:TRUE
SUMMARY:Business Achievement Awards
DESCRIPTION:GALA AWARDS CEREMONY\n\n\n\nFriday\, March 20\, 2015\n\nCoast Bastion Hotel\n\n6 pm      Reception\n\n7 pm      Dinner\n\n8 pm      Presentations & Entertainment\n\n\n\n$89 plus GST\n\n \n\nThe Greater Nanaimo Chamber of Commerce has been honouring outstanding organizations and individuals in Nanaimo for 15 years. The Business Achievement Awards\, formerly the Sterling Awards\, brings our community together to celebrate the accomplishments of individuals\, businesses and organizations across all sectors in our city\n\n \n\nThank you to our sponsors and to the nominees for making Nanaimo a great place to do business. \n\nWe hope you are able to join us in celebrating the achievements of our business community. The gala awards ceremony\, with entertainment and a buffet dinner\, will take place on Friday\,  March 20\, 2015 at the Coast Bastion Hotel. Tickets are $89.00 (+ GST).\n\n\n\nClick here for the order form
X-ALT-DESC;FMTTYPE=text/html:<h3 style="text-align: center\;">GALA AWARDS CEREMONY</h3>\n\n<div style="text-align: center\;"><br />\nFriday\, March 20\, 2015<br />\nCoast Bastion Hotel<br />\n6 pm&nbsp\;&nbsp\;&nbsp\;&nbsp\;&nbsp\; Reception<br />\n7 pm&nbsp\;&nbsp\;&nbsp\;&nbsp\;&nbsp\; Dinner<br />\n8 pm&nbsp\;&nbsp\;&nbsp\;&nbsp\;&nbsp\; Presentations &amp\; Entertainment<br />\n<br />\n$89 plus GST<br />\n&nbsp\;</div>\n\n<div><span style="language:en-CA\;"><span style="color:black\;"><span style="font-family:calibri\;"><span style="font-size:11.0pt\;">The Greater Nanaimo Chamber of Commerce has been honouring </span></span></span></span><span style="language:en-CA\;"><span style="color:black\;"><span style="font-family:calibri\;"><span style="font-size:11.0pt\;">outstanding organizations and individuals in</span></span></span></span><span style="language:en-CA\;"><span style="color:black\;"><span style="font-family:calibri\;"><span style="font-size:11.0pt\;"> Nanaimo for 15 years. The Business Achievement Awards\, formerly the Sterling Awards\, brings our community together to celebrate the accomplishments of individuals\, businesses and organizations across all sectors in our city</span></span></span></span><br />\n&nbsp\;<br />\n<span style="language:en-CA\;"><span style="color:black\;"><span style="font-family:calibri\;"><span style="font-size:11.0pt\;">Thank you to our </span></span></span></span><span style="language:en-CA\;"><span style="color:black\;"><span style="font-family:calibri\;"><span style="font-size:11.0pt\;">sponsors and </span></span></span></span><span style="language:en-CA\;"><span style="color:black\;"><span style="font-family:calibri\;"><span style="font-size:11.0pt\;">to the nominees for making Nanaimo a great place to do business. </span></span></span></span><br />\n<span style="language:en-CA\;"><span style="color:black\;"><span style="font-family:calibri\;"><span style="font-size:11.0pt\;">We hope you are able to join</span></span></span></span><span style="language:en-US\;"><span style="color:black\;"><span style="font-family:calibri\;"><span style="font-size:11.0pt\;"> us in celebrating the achievements of our business community. The gala awards ceremony\, with entertainment and a buffet dinner\, will take place on </span></span></span></span><span style="font-weight:bold\;language:en-US\;"><span style="color:black\;"><span style="font-family:calibri\;"><span style="font-size:11.0pt\;">Friday\,&nbsp\; </span></span></span></span><span style="font-weight:bold\;language:en-US\;"><span style="color:black\;"><span style="font-family:calibri\;"><span style="font-size:11.0pt\;">March 20\, 2015 </span></span></span></span><span style="language:en-US\;"><span style="color:black\;"><span style="font-family:calibri\;"><span style="font-size:11.0pt\;">at the Coast Bastion Hotel. </span></span></span></span><span style="language:en-CA\;"><span style="color:black\;"><span style="font-family:calibri\;"><span style="font-size:11.0pt\;">Tickets are $89.00 (+ GST).</span></span></span></span><br />\n<br />\n<a href="http://cloud.chambermaster.com/userfiles/UserFiles/chambers/1345/File/BAAGalaTicketorderform.pdf">Click here for the order form</a><br />\n&nbsp\;</div>\n
LOCATION:Coast Bastion Hotel 11 Bastion Street
UID:e.1345.182
SEQUENCE:3
DTSTAMP:20260421T081303Z
URL:https://members.nanaimochamber.bc.ca/events/details/business-achievement-awards-03-20-2015-182
END:VEVENT

END:VCALENDAR
