BEGIN:VCALENDAR
VERSION:2.0
PRODID:-//ChamberMaster//Event Calendar 2.0//EN
METHOD:PUBLISH
X-PUBLISHED-TTL:P3D
REFRESH-INTERVAL:P3D
CALSCALE:GREGORIAN
BEGIN:VEVENT
DTSTART;VALUE=DATE:20140221
DTEND;VALUE=DATE:20140222
TRANSP:TRANSPARENT
X-MICROSOFT-CDO-ALLDAYEVENT:TRUE
SUMMARY:Business Achievement Awards
DESCRIPTION:GALA AWARDS CEREMONY\n\n	\n\n	Vancouver Island Conference Centre\n\n	Friday\, February 21st\, 2014\n\n	\n\n	6:00pm-7:00pm  networking and registration\n\n	7:00pm  buffet dinner\n\n	8:00pm  Awards ceremony\n\n	9:00pm  conclusion\n\n	\n\n	Business Attire\n\n	Ticket price is $80 (+ GST) per person\n\n	Tables of 8 - $600 (+ GST)
X-ALT-DESC;FMTTYPE=text/html:<h3 style="text-align: center\;">\n	GALA AWARDS CEREMONY</h3>\n<div style="text-align: center\;">\n	<br />\n	Vancouver Island Conference Centre<br />\n	Friday\, February 21st\, 2014<br />\n	<br />\n	6:00pm-7:00pm&nbsp\; networking and registration<br />\n	7:00pm&nbsp\; buffet dinner<br />\n	8:00pm&nbsp\; Awards ceremony<br />\n	9:00pm&nbsp\; conclusion<br />\n	<br />\n	Business Attire<br />\n	Ticket price is $80 (+ GST) per person<br />\n	Tables of 8 - $600 (+ GST)</div>\n
LOCATION:Vancouver Island Conference Centre 101 Gordon Street
UID:e.1345.114
SEQUENCE:3
DTSTAMP:20260422T055041Z
URL:https://members.nanaimochamber.bc.ca/events/details/business-achievement-awards-02-21-2014-114
END:VEVENT

END:VCALENDAR
