BEGIN:VCALENDAR
VERSION:2.0
PRODID:-//ChamberMaster//Event Calendar 2.0//EN
METHOD:PUBLISH
X-PUBLISHED-TTL:P3D
REFRESH-INTERVAL:P3D
CALSCALE:GREGORIAN
BEGIN:VEVENT
DTSTART:20161110T153000Z
DTEND:20161110T170000Z
X-MICROSOFT-CDO-ALLDAYEVENT:FALSE
SUMMARY:Budget Breakfast
DESCRIPTION:Budget Breakfast
X-ALT-DESC;FMTTYPE=text/html:Budget Breakfast
LOCATION:Chamber Offices 2133 Bowen Rd Nanaimo BC V9S 1H8
UID:e.1345.487
SEQUENCE:3
DTSTAMP:20260420T000243Z
URL:https://members.nanaimochamber.bc.ca/events/details/budget-breakfast-487
END:VEVENT

END:VCALENDAR
