BEGIN:VCALENDAR
VERSION:2.0
PRODID:-//ChamberMaster//Event Calendar 2.0//EN
METHOD:PUBLISH
X-PUBLISHED-TTL:P3D
REFRESH-INTERVAL:P3D
CALSCALE:GREGORIAN
BEGIN:VEVENT
DTSTART:20150611T143000Z
DTEND:20150611T163000Z
X-MICROSOFT-CDO-ALLDAYEVENT:FALSE
SUMMARY:Breakfast with the Premier & Caucus
DESCRIPTION:When:  Thursday\, June 11\, 2015\n\nTime:    Doors Open 7:30 am\n\n            Breakfast 8:00 am\n\n            Keynote 8:30 am\n\nWhere: Parksville Community & Conference Centre\n\n           132 E. Jensen Ave.\n\nCost:   Members $30 (+GST)\n\nRegistration required\, call 250-756-1191\, ext 4 to reserve your ticket. Pre-registration is required as no tickets will be sold at the door.\n\n\n\nBreakfast with Premier Christy Clark and the Caucus on Thursday\, June 11th 7:30 am at the Parksville Community & Conference Centre. There will be 1-2 Caucus members at each table so you'll have lots of opportunity to discuss your issues with a member. Premier Christy Clark will be the keynote speaker. This is a Nanaimo\, Parksville\, Qualicum meet and greet with no special announcements planned.
X-ALT-DESC;FMTTYPE=text/html:When:&nbsp\; Thursday\, June 11\, 2015<br />\nTime:&nbsp\;&nbsp\;&nbsp\; Doors Open 7:30 am<br />\n&nbsp\;&nbsp\;&nbsp\;&nbsp\;&nbsp\;&nbsp\;&nbsp\;&nbsp\;&nbsp\;&nbsp\;&nbsp\; Breakfast 8:00 am<br />\n&nbsp\;&nbsp\;&nbsp\;&nbsp\;&nbsp\;&nbsp\;&nbsp\;&nbsp\;&nbsp\;&nbsp\;&nbsp\; Keynote 8:30 am<br />\nWhere: Parksville Community &amp\; Conference Centre<br />\n&nbsp\;&nbsp\;&nbsp\;&nbsp\;&nbsp\;&nbsp\;&nbsp\;&nbsp\;&nbsp\;&nbsp\; 132 E. Jensen Ave.<br />\nCost:&nbsp\;&nbsp\; Members $30 (+GST)<br />\nRegistration required\, call 250-756-1191\, ext 4 to reserve your ticket. Pre-registration is required as <u>no tickets will be sold at the door.</u><br />\n<br />\nBreakfast with Premier Christy Clark and the Caucus on Thursday\, June 11th 7:30 am at the Parksville Community &amp\; Conference Centre. There will be 1-2 Caucus members at each table so you&rsquo\;ll have lots of opportunity to discuss your issues with a member. Premier Christy Clark will be the keynote speaker. This is a Nanaimo\, Parksville\, Qualicum meet and greet with no special announcements planned.
LOCATION:Parksville Community & Conference Centre 132 E. Jensen Ave.
UID:e.1345.217
SEQUENCE:3
DTSTAMP:20260421T030749Z
URL:https://members.nanaimochamber.bc.ca/events/details/breakfast-with-the-premier-caucus-06-11-2015-217
END:VEVENT

END:VCALENDAR
