BEGIN:VCALENDAR
VERSION:2.0
PRODID:-//ChamberMaster//Event Calendar 2.0//EN
METHOD:PUBLISH
X-PUBLISHED-TTL:P3D
REFRESH-INTERVAL:P3D
CALSCALE:GREGORIAN
BEGIN:VEVENT
DTSTART:20160831T183000Z
DTEND:20160831T200000Z
X-MICROSOFT-CDO-ALLDAYEVENT:FALSE
SUMMARY:Board of Directors Meeting
DESCRIPTION:Board of Directors Meeting
X-ALT-DESC;FMTTYPE=text/html:Board of Directors Meeting
LOCATION:Nanaimo Chamber of Commerce 2133 Bowen Road Nanaimo\, BC V9S 1H8
UID:e.1345.297
SEQUENCE:3
DTSTAMP:20260420T064106Z
URL:https://members.nanaimochamber.bc.ca/events/details/board-of-directors-meeting-08-31-2016-297
END:VEVENT

END:VCALENDAR
