BEGIN:VCALENDAR
VERSION:2.0
PRODID:-//ChamberMaster//Event Calendar 2.0//EN
METHOD:PUBLISH
X-PUBLISHED-TTL:P3D
REFRESH-INTERVAL:P3D
CALSCALE:GREGORIAN
BEGIN:VEVENT
DTSTART:20170329T183000Z
DTEND:20170329T200000Z
X-MICROSOFT-CDO-ALLDAYEVENT:FALSE
SUMMARY:Board of Directors Meeting
DESCRIPTION:Board of Directors Meeting
X-ALT-DESC;FMTTYPE=text/html:Board of Directors Meeting
LOCATION:Nanaimo Chamber of Commerce 2133 Bowen Road Nanaimo\, BC V9S 1H8
UID:e.1345.304
SEQUENCE:3
DTSTAMP:20260419T191913Z
URL:https://members.nanaimochamber.bc.ca/events/details/board-of-directors-meeting-03-22-2017-304
END:VEVENT

END:VCALENDAR
