BEGIN:VCALENDAR
VERSION:2.0
PRODID:-//ChamberMaster//Event Calendar 2.0//EN
METHOD:PUBLISH
X-PUBLISHED-TTL:P3D
REFRESH-INTERVAL:P3D
CALSCALE:GREGORIAN
BEGIN:VEVENT
DTSTART:20170617T163000Z
DTEND:20170617T213000Z
X-MICROSOFT-CDO-ALLDAYEVENT:FALSE
SUMMARY:Board Governance Workshop
DESCRIPTION:Board Governance Workshop\n\nTake your board to a whole new level!\n\n \n\nA workshop designed for both volunteer board members and staff about governance best practices and the effective operation of a board.\n\n \n\nDo you want to improve your Board's effectiveness? Do you want to strengthen your Chamber and learn essential strategies and best practices for you and your board? \n\n \n\nThis five hour governance workshop delivers clear teaching on the components of governance and how boards can easily monitor these key  components to make their organization highly efficient and relevant. \n\n \n\nJoin Deb McClelland\, Executive Director of the Kamloops Chamber of Commerce. Deb has served on many boards over the past 37 years\, and has studied board governance for over 17 years. She has guided her own board\, as well as others\, to transition to this effective model.  When it comes to Governance Deb has become one of the go-to people for Chambers across the province!\n\n \n\n  7 components of governance\n\n  Board / management partnership\n\n  Roles\, responsibilities & authority\n\n  Governing principles\n\n  Sample terms of reference\n\n  Board and consent agendas\n\n  Staff performance evaluation\n\n  Policy\n\n \n\nSaturday\, June 17\, 2017\n\n9:30 am   2:30 pm\n\nLunch included\n\nMNP Offices\, 400-345 Wallace St.\n\n \n\n$89 Chamber members and Non-Profits - only 20 seats available - registration open now.\n\nInfo: \n\nRenee Bohun\n\nrenee@nanaimochamber.bc.ca\n\n250.756.1191 x 2
X-ALT-DESC;FMTTYPE=text/html:<span style="font-size:12.0pt\;">Board Governance Workshop</span><br />\n<span style="font-size:12.0pt\;">Take your board to a whole new level!</span><br />\n&nbsp\;<br />\n<span style="font-size:12.0pt\;">A workshop designed for both volunteer board members and staff about governance best practices and the effective operation of a board.</span><br />\n&nbsp\;<br />\n<span style="font-size:12.0pt\;">Do you want to improve your Board&#39\;s effectiveness? Do you want to strengthen your Chamber and learn essential strategies and best practices for you and your board? </span><br />\n&nbsp\;<br />\n<span style="font-size:12.0pt\;">This five hour governance workshop delivers clear teaching on the components of governance and how boards can easily monitor these key&nbsp\; components to make their organization highly efficient and relevant.&nbsp\;</span><br />\n&nbsp\;<br />\n<span style="font-size:12.0pt\;">Join Deb McClelland\, Executive Director of the Kamloops Chamber of Commerce. Deb has served on many boards over the past 37 years\, and has studied board governance for over 17 years. She has guided her own board\, as well as others\, to transition to this effective model.&nbsp\; When it comes to Governance Deb has become one of the go-to people for Chambers across the province!</span><br />\n&nbsp\;<br />\n<span style="font-size:12.0pt\;">&middot\;&nbsp\;7 components of governance</span><br />\n<span style="font-size:12.0pt\;">&middot\;&nbsp\;Board / management partnership</span><br />\n<span style="font-size:12.0pt\;">&middot\;&nbsp\;Roles\, responsibilities &amp\; authority</span><br />\n<span style="font-size:12.0pt\;">&middot\;&nbsp\;Governing principles</span><br />\n<span style="font-size:12.0pt\;">&middot\;&nbsp\;Sample terms of reference</span><br />\n<span style="font-size:12.0pt\;">&middot\;&nbsp\;Board and consent agendas</span><br />\n<span style="font-size:12.0pt\;">&middot\;&nbsp\;Staff performance evaluation</span><br />\n<span style="font-size:12.0pt\;">&middot\;&nbsp\;Policy</span><br />\n&nbsp\;<br />\n<span style="font-size:12.0pt\;">Saturday\, June 17\, 2017</span><br />\n<span style="font-size:12.0pt\;">9:30 am &ndash\; 2:30 pm</span><br />\n<span style="font-size:12.0pt\;">Lunch included</span><br />\n<span style="font-size:12.0pt\;">MNP Offices\, 400-345 Wallace St.</span><br />\n&nbsp\;<br />\n<span style="font-size:12.0pt\;">$89 Chamber members and Non-Profits - only 20 seats available - registration open now.</span><br />\n<span style="font-size:12.0pt\;">Info: </span><br />\n<span style="font-size:12.0pt\;">Renee Bohun</span><br />\n<span style="font-size:12.0pt\;"><a href="mailto:renee@nanaimochamber.bc.ca">renee@nanaimochamber.bc.ca</a></span><br />\n<span style="font-size:12.0pt\;">250.756.1191 x 2</span><br />\n&nbsp\;
LOCATION:Saturday\, June 17\, 2017 9:30 am 2:30 pm Lunch included MNP Offices\, 400-345 Wallace St. $89 Chamber members and Non-Profits Info: Renee Bohun renee@nanaimochamber.bc.ca 250.756.1191 x 2
UID:e.1345.546
SEQUENCE:3
DTSTAMP:20260419T130505Z
URL:https://members.nanaimochamber.bc.ca/events/details/board-governance-workshop-546
END:VEVENT

END:VCALENDAR
