BEGIN:VCALENDAR
VERSION:2.0
PRODID:-//ChamberMaster//Event Calendar 2.0//EN
METHOD:PUBLISH
X-PUBLISHED-TTL:P3D
REFRESH-INTERVAL:P3D
CALSCALE:GREGORIAN
BEGIN:VEVENT
DTSTART;VALUE=DATE:20130523
DTEND;VALUE=DATE:20130526
TRANSP:TRANSPARENT
X-MICROSOFT-CDO-ALLDAYEVENT:TRUE
SUMMARY:BC Chamber AGM
DESCRIPTION:The Greater Nanaimo Chamber of Commerce is thrilled to host the 2013 BC Chamber AGM and Conference May 23rd   25th\, bringing over 200 delegates to Nanaimo for the 3 day conference.\n\n\n\nWe hope you will take the time to read through the information provided. The Nanaimo Chamber will be hosting a golf tournament for members and delegates on Wednesday\, May 22nd at Fairwinds Golf Course. Click here for more information.\n\n\n\nRunning concurrently during the conference is a Trade Show\; exhibitor opportunities are available. This is your opportunity to showcase your product or service to Chambers and business leaders from around the province. All coffee breaks for delegates are hosted in the tradeshow area increasing your opportunities to network.\n\n\n\nClick here for more information on the Trade Show and the Registration form.
X-ALT-DESC;FMTTYPE=text/html:The Greater Nanaimo Chamber of Commerce is thrilled to host the 2013 BC Chamber AGM and Conference May 23rd &ndash\; 25th\, bringing over 200 delegates to Nanaimo for the 3 day conference.<br />\n<br />\nWe hope you will take the time to read through the information provided. The Nanaimo Chamber will be hosting a golf tournament for members and delegates on Wednesday\, May 22nd at Fairwinds Golf Course. <a href="http://www.nanaimochamber.bc.ca/images/stories/2013_Golf_Tournament_sponsor_and_golfer_info.pdf">Click here for more information.</a><br />\n<br />\nRunning concurrently during the conference is a Trade Show\; exhibitor opportunities are available. This is your opportunity to showcase your product or service to Chambers and business leaders from around the province. All coffee breaks for delegates are hosted in the tradeshow area increasing your opportunities to network.<br />\n<br />\n<a href="http://www.nanaimochamber.bc.ca/images/stories/2013_AGM_Tradeshow_Registration.pdf">Click here for more information on the Trade Show and the Registration form.</a>
LOCATION:Vancouver Island Conference Ctr 101 Gordon St.
UID:e.1345.103
SEQUENCE:3
DTSTAMP:20260422T210955Z
URL:https://members.nanaimochamber.bc.ca/events/details/bc-chamber-agm-05-23-2013-103
END:VEVENT

END:VCALENDAR
