BEGIN:VCALENDAR
VERSION:2.0
PRODID:-//ChamberMaster//Event Calendar 2.0//EN
METHOD:PUBLISH
X-PUBLISHED-TTL:P3D
REFRESH-INTERVAL:P3D
CALSCALE:GREGORIAN
BEGIN:VEVENT
DTSTART;VALUE=DATE:20140813
DTEND;VALUE=DATE:20140814
TRANSP:TRANSPARENT
X-MICROSOFT-CDO-ALLDAYEVENT:TRUE
SUMMARY:August Chamber Luncheon
DESCRIPTION:Party on the Deck!\n\nCactus Club - on the deck (801-5800 Turner Rd.)\n\n11:30am\n\nCost: Members: $34.00 +GST\; Non members: $50.00 +GST\n\n\n\nThis event is now SOLD OUT!\n\nPlease pre-order your menu selection. Click here for Menu.\n\n\n\nOnly room for 70 people! Register ASAP.\n\nPre-registration and pre-payment are required for the Luncheon. Refunds will be issued with 48 hours notice.
X-ALT-DESC;FMTTYPE=text/html:Party on the Deck!<br />\nCactus Club - on the deck (801-5800 Turner Rd.)<br />\n11:30am<br />\nCost: Members: $34.00 +GST\; Non members: $50.00 +GST<br />\n<br />\n<span style="font-size:18px\;"><span style="color:#FF0000\;"><strong>This event is now SOLD</strong> <strong>OUT!</strong></span></span><br />\nPlease pre-order your menu selection. <a href="http://cloud.chambermaster.com/userfiles/UserFiles/chambers/1345/File/MenuOptions.pdf">Click here for Menu.</a><br />\n<br />\nOnly room for 70 people! Register ASAP.<br />\nPre-registration and pre-payment are required for the Luncheon. Refunds will be issued with 48 hours notice.
LOCATION:Cactus Club 801-5800 Turner Rd.
UID:e.1345.156
SEQUENCE:3
DTSTAMP:20260421T193133Z
URL:https://members.nanaimochamber.bc.ca/events/details/august-chamber-luncheon-08-13-2014-156
END:VEVENT

END:VCALENDAR
