BEGIN:VCALENDAR
VERSION:2.0
PRODID:-//ChamberMaster//Event Calendar 2.0//EN
METHOD:PUBLISH
X-PUBLISHED-TTL:P3D
REFRESH-INTERVAL:P3D
CALSCALE:GREGORIAN
BEGIN:VEVENT
DTSTART:20150819T143000Z
DTEND:20150819T153000Z
X-MICROSOFT-CDO-ALLDAYEVENT:FALSE
SUMMARY:August Business before Business
DESCRIPTION:Morning networking event\, no cost to attend. Bring lots of business cards and network with your fellow Chamber members and business professionals.\n\n\n\nWhen:    Wednesday\, August  19\, 2015\n\nWhere:    Nanaimo Lawn Bowling\, 500 Bowen Road\n\nTime:    7:30 am and goes to 8:30 am.\n\nCost:    Free for members -but please bring a food or monetary donation for our local food security programs.
X-ALT-DESC;FMTTYPE=text/html:Morning networking event\, no cost to attend. Bring lots of business cards and network with your fellow Chamber members and business professionals.<br />\n<br />\nWhen:&nbsp\;&nbsp\; &nbsp\;Wednesday\, August&nbsp\; 19\, 2015<br />\nWhere:&nbsp\;&nbsp\; &nbsp\;Nanaimo Lawn Bowling\, 500 Bowen Road<br />\nTime:&nbsp\;&nbsp\; &nbsp\;7:30 am and goes to 8:30 am.<br />\nCost:&nbsp\;&nbsp\; &nbsp\;Free for members -but please bring a food or monetary donation for our local food security programs.
LOCATION:Nanaimo Lawn Bowling\, 500 Bowen Rd.
UID:e.1345.229
SEQUENCE:3
DTSTAMP:20260420T235159Z
URL:https://members.nanaimochamber.bc.ca/events/details/august-business-before-business-08-19-2015-229
END:VEVENT

END:VCALENDAR
