BEGIN:VCALENDAR
VERSION:2.0
PRODID:-//ChamberMaster//Event Calendar 2.0//EN
METHOD:PUBLISH
X-PUBLISHED-TTL:P3D
REFRESH-INTERVAL:P3D
CALSCALE:GREGORIAN
BEGIN:VEVENT
DTSTART:20120815T143000Z
DTEND:20120815T153000Z
X-MICROSOFT-CDO-ALLDAYEVENT:FALSE
SUMMARY:August Business before Business
DESCRIPTION:Morning networking event\, no cost to attend. Bring lots of business cards and network with your fellow Chamber members and business professionals.\n\n\n\nWhere: Supporting Employment Transitions (SET)\, 101-155 Skinner St.
X-ALT-DESC;FMTTYPE=text/html:Morning networking event\, no cost to attend. Bring lots of business cards and network with your fellow Chamber members and business professionals.<br />\n<br />\n<strong>Where:</strong> Supporting Employment Transitions (SET)\, 101-155 Skinner St.
LOCATION:Supporting Employment Transitions (SET)\, 101-155 Skinner St.
UID:e.1345.34
SEQUENCE:3
DTSTAMP:20260423T120753Z
URL:https://members.nanaimochamber.bc.ca/events/details/august-business-before-business-08-15-2012-34
END:VEVENT

END:VCALENDAR
