BEGIN:VCALENDAR
VERSION:2.0
PRODID:-//ChamberMaster//Event Calendar 2.0//EN
METHOD:PUBLISH
X-PUBLISHED-TTL:P3D
REFRESH-INTERVAL:P3D
CALSCALE:GREGORIAN
BEGIN:VEVENT
DTSTART:20150828T000000Z
DTEND:20150828T020000Z
X-MICROSOFT-CDO-ALLDAYEVENT:FALSE
SUMMARY:August Business after Business
DESCRIPTION:After work networking event\, no cost to attend. Bring lots of business cards and network with your fellow Chamber members and business professionals.\n\n\n\nWhen:    Thursday\, August 27\, 2015\n\nWhere:    Nanaimo Marine Rescue\, Rescue Station located at the Brechin Boat Launch\, 1890 Zorkin Road\n\nTime:    5:00 pm - 7:00 pm\n\nCost:     Free for members -but please bring a food or monetary donation for our local food security programs.
X-ALT-DESC;FMTTYPE=text/html:<span style="font-size: 9pt"><span style="color: #252525"><span style="font-family: arial\, sans-serif">After work networking event\, no cost to attend. Bring lots of business cards and network with your fellow Chamber members and business professionals.</span></span></span><br />\n<br />\nWhen:&nbsp\;&nbsp\; &nbsp\;Thursday\, August 27\, 2015<br />\nWhere:&nbsp\;&nbsp\; &nbsp\;Nanaimo Marine Rescue\, Rescue Station located at the Brechin Boat Launch\, 1890 Zorkin Road<br />\nTime:&nbsp\;&nbsp\; &nbsp\;5:00 pm - 7:00 pm<br />\nCost: &nbsp\;&nbsp\; &nbsp\;Free for members -but please bring a food or monetary donation for our local food security programs.
LOCATION:Nanaimo Marine Rescue Rescue Station located at the Brechin Boat Launch 1890 Zorkin Road
UID:e.1345.230
SEQUENCE:3
DTSTAMP:20260421T013122Z
URL:https://members.nanaimochamber.bc.ca/events/details/august-business-after-business-08-27-2015-230
END:VEVENT

END:VCALENDAR
