BEGIN:VCALENDAR
VERSION:2.0
PRODID:-//ChamberMaster//Event Calendar 2.0//EN
METHOD:PUBLISH
X-PUBLISHED-TTL:P3D
REFRESH-INTERVAL:P3D
CALSCALE:GREGORIAN
BEGIN:VEVENT
DTSTART:20120824T000000Z
DTEND:20120824T020000Z
X-MICROSOFT-CDO-ALLDAYEVENT:FALSE
SUMMARY:August Business after Business
DESCRIPTION:After work networking event\, no cost to attend. Bring lots of business cards and network with your fellow Chamber members and business professionals.\n\n\n\nWhere: WildPlay Element Park\, 35 Nanaimo River Rd.\n\n\n\nAt the Business after Business in August\, our new CEO Susan Allen\, has pledged to bungy jump if we raise $5000 in pledges. 50% of the monies raised will be donated to a charitable organization and 50% will assist the Chamber to continue its programs and services.\n\n\n\nYou won't want to miss this! Donations can be made to the Chamber by filling out the pledge form and faxing to 250-756-1584 or e-mail: reception@nanaimochamber.bc.ca\n\n\n\nCharitable organizations are asked to submit their organizations' name to be submitted into the draw for 50% of the monies raised. The draw will take place at the Business after Business on August 23rd
X-ALT-DESC;FMTTYPE=text/html:<span style="font-size: 9pt"><span style="color: #252525"><span style="font-family: arial\, sans-serif">After work networking event\, no cost to attend. Bring lots of business cards and network with your fellow Chamber members and business professionals.</span></span></span><br />\n<br />\n<span style="color: rgb(0\, 0\, 0)\;"><strong>Where: </strong>WildPlay Element Park\, 35 Nanaimo River Rd.</span><br />\n<br />\nAt the Business after Business in August\, our new CEO Susan Allen\, has pledged to bungy jump if we raise $5000 in pledges. 50% of the monies raised will be donated to a charitable organization and 50% will assist the Chamber to continue its programs and services.<br />\n<br />\nYou won&rsquo\;t want to miss this! Donations can be made to the Chamber by filling out the <a href="http://www.nanaimochamber.bc.ca/images/stories/Toss_the_Boss_Fundraiser.pdf">pledge form</a> and faxing to 250-756-1584 or e-mail: reception@nanaimochamber.bc.ca<br />\n<br />\nCharitable organizations are asked to submit their organizations&rsquo\; name to be submitted into the draw for 50% of the monies raised. The draw will take place at the Business after Business on August 23rd<br />\n
LOCATION:WildPlay Element Park\, 35 Nanaimo River Rd.
UID:e.1345.37
SEQUENCE:3
DTSTAMP:20260423T133810Z
URL:https://members.nanaimochamber.bc.ca/events/details/august-business-after-business-08-23-2012-37
END:VEVENT

END:VCALENDAR
