BEGIN:VCALENDAR
VERSION:2.0
PRODID:-//ChamberMaster//Event Calendar 2.0//EN
METHOD:PUBLISH
X-PUBLISHED-TTL:P3D
REFRESH-INTERVAL:P3D
CALSCALE:GREGORIAN
BEGIN:VEVENT
DTSTART;VALUE=DATE:20130410
DTEND;VALUE=DATE:20130411
TRANSP:TRANSPARENT
X-MICROSOFT-CDO-ALLDAYEVENT:TRUE
SUMMARY:April Membership Luncheon
DESCRIPTION:Membership Luncheon\n\nTime: Buffet lunch begins 11:30am\n\nWhere: The Grand Hotel\, 4898 Rutherford Rd.\n\nSpeaker: Robert Bailey\, Rethink Learning\n\nTopic: Micro Business Training Program\n\nSponsor: Leadership VI\n\nCost: Members: $33.48 (+ GST)\; Non Members: $50.00 (+ GST) This event is open to non-members\, as well as members. You must pre-register. Space is limited.\n\nPlease Note: Pre-payment and Reservations required. Refunds will be issued with 24 hours notice.
X-ALT-DESC;FMTTYPE=text/html:<span style="font-size: 12px"><span style="font-family: arial"><span style="color: #2891d6"><b>Membership Luncheon</b></span></span></span><br />\n<strong>Time: </strong>Buffet lunch begins 11:30am<br />\n<strong>Where: </strong>The Grand Hotel\, 4898 Rutherford Rd.<br />\n<strong>Speaker: </strong>Robert Bailey\, Rethink Learning<br />\n<strong>Topic:</strong> Micro Business Training Program<br />\n<strong>Sponsor:</strong> Leadership VI<br />\n<strong>Cost: </strong>Members:<strong> </strong>$33.48 (+ GST)\; Non Members: $50.00 (+ GST) This event is open to non-members\, as well as members. You must pre-register. Space is limited.<br />\n<em><strong>Please Note: Pre-payment and Reservations required. Refunds will be issued with 24 hours notice.<br />\n<span _fck_bookmark="1" style="display: none">&nbsp\;</span></strong></em><span style="font-family: 'calibri'\, 'sans-serif'\; color: black"><span _fck_bookmark="1" style="display: none"> </span></span>
LOCATION:The Grand Hotel\, 4898 Rutherford Rd.
UID:e.1345.63
SEQUENCE:3
DTSTAMP:20260423T005145Z
URL:https://members.nanaimochamber.bc.ca/events/details/april-membership-luncheon-04-10-2013-63
END:VEVENT

END:VCALENDAR
