BEGIN:VCALENDAR
VERSION:2.0
PRODID:-//ChamberMaster//Event Calendar 2.0//EN
METHOD:PUBLISH
X-PUBLISHED-TTL:P3D
REFRESH-INTERVAL:P3D
CALSCALE:GREGORIAN
BEGIN:VEVENT
DTSTART:20120411T183000Z
DTEND:20120411T200000Z
X-MICROSOFT-CDO-ALLDAYEVENT:FALSE
SUMMARY:April Chamber Luncheon
DESCRIPTION:Membership Luncheon\n\nTime: Buffet lunch begins 11:30am\n\nWhere: Vancouver Island Conference Ctr\,\n\nSpeaker: Gord Hume\, Author\, Speaker\, Creative Cities\n\nTopic: Cultural Planning and the Creative Economy\n\nSponsor: City of Naniamo\n\nCost: $45.00 (+ HST) This event is open to non-members\, as well as members. You must pre-register. Space is limited.\n\nPlease Note: Pre-payment and Reservations required. Refunds will be issued with 24 hours notice.\n\n\n\n NOTE: The luncheon follows a public workshop "Cultural Planning for Creative Communities" held in the same location from 8:30 -11:00 am. To attend the workshop\, register with Parks\, Recreation & Culture\, 250-756-5200.
X-ALT-DESC;FMTTYPE=text/html:<span style="font-size: 12px"><span style="font-family: arial"><span style="color: #2891d6"><b>Membership Luncheon</b></span></span></span><br />\n<strong>Time: </strong>Buffet lunch begins 11:30am<br />\n<strong>Where: </strong>Vancouver Island Conference Ctr\,<br />\n<strong>Speaker: </strong>Gord Hume\, Author\, Speaker\, Creative Cities<br />\n<strong>Topic:</strong> Cultural Planning and the Creative Economy<br />\n<strong>Sponsor: </strong>City of Naniamo<br />\n<strong>Cost: </strong>$45.00 (+ HST) This event is open to non-members\, as well as members. You must pre-register. Space is limited.<br />\n<em><strong>Please Note: Pre-payment and Reservations required. Refunds will be issued with 24 hours notice.<br />\n<br />\n<span _fck_bookmark="1" style="display: none">&nbsp\;</span></strong></em><span style="font-family: 'calibri'\, 'sans-serif'\; color: black">NOTE: The luncheon follows a public workshop &quot\;Cultural Planning for Creative Communities&quot\; held in the same location from 8:30 -11:00 am. To attend the workshop\, register with Parks\, Recreation &amp\; Culture\, 250-756-5200.<span _fck_bookmark="1" style="display: none">&nbsp\;</span></span>
LOCATION:Vancouver Island Conference Centre\, 101 Gordon St.
UID:e.1345.16
SEQUENCE:3
DTSTAMP:20260423T193135Z
URL:https://members.nanaimochamber.bc.ca/events/details/april-chamber-luncheon-04-11-2012-16
END:VEVENT

END:VCALENDAR
