BEGIN:VCALENDAR
VERSION:2.0
PRODID:-//ChamberMaster//Event Calendar 2.0//EN
METHOD:PUBLISH
X-PUBLISHED-TTL:P3D
REFRESH-INTERVAL:P3D
CALSCALE:GREGORIAN
BEGIN:VEVENT
DTSTART:20120418T143000Z
DTEND:20120418T153000Z
X-MICROSOFT-CDO-ALLDAYEVENT:FALSE
SUMMARY:April Business before Business
DESCRIPTION:Morning networking event\, no cost to attend. Bring lots of business cards and network with your fellow Chamber members and business professionals.\n\n\n\nWhere: Elite Image Software Corp.\, 2030 Boxwood Road
X-ALT-DESC;FMTTYPE=text/html:Morning networking event\, no cost to attend. Bring lots of business cards and network with your fellow Chamber members and business professionals.<br />\n<br />\n<strong>Where:</strong> Elite Image Software Corp.\,&nbsp\;2030 Boxwood Road
LOCATION:Elite Image Software Corp.\, 2030 Boxwood Road
UID:e.1345.17
SEQUENCE:3
DTSTAMP:20260423T182254Z
URL:https://members.nanaimochamber.bc.ca/events/details/april-business-before-business-04-18-2012-17
END:VEVENT

END:VCALENDAR
