BEGIN:VCALENDAR
VERSION:2.0
PRODID:-//ChamberMaster//Event Calendar 2.0//EN
METHOD:PUBLISH
X-PUBLISHED-TTL:P3D
REFRESH-INTERVAL:P3D
CALSCALE:GREGORIAN
BEGIN:VEVENT
DTSTART:20140416T143000Z
DTEND:20140416T153000Z
X-MICROSOFT-CDO-ALLDAYEVENT:FALSE
SUMMARY:April Business before Business
DESCRIPTION:Morning networking event\, no cost to attend. Bring lots of business cards and network with your fellow Chamber members and business professionals.\n\n\n\nWhere: Aspengrove School\, 7660 Clark Dr.\n\nWhen: 7:30am - 8:30am
X-ALT-DESC;FMTTYPE=text/html:Morning networking event\, no cost to attend. Bring lots of business cards and network with your fellow Chamber members and business professionals.<br />\n<br />\n<strong>Where:</strong> Aspengrove School\, 7660 Clark Dr.<br />\n<strong>When:</strong> 7:30am - 8:30am<br />\n<br />\n
LOCATION:Aspengrove School\, 7660 Clark Dr.
UID:e.1345.122
SEQUENCE:3
DTSTAMP:20260422T020745Z
URL:https://members.nanaimochamber.bc.ca/events/details/april-business-before-business-04-16-2014-122
END:VEVENT

END:VCALENDAR
