BEGIN:VCALENDAR
VERSION:2.0
PRODID:-//ChamberMaster//Event Calendar 2.0//EN
METHOD:PUBLISH
X-PUBLISHED-TTL:P3D
REFRESH-INTERVAL:P3D
CALSCALE:GREGORIAN
BEGIN:VEVENT
DTSTART:20150415T143000Z
DTEND:20150415T153000Z
X-MICROSOFT-CDO-ALLDAYEVENT:FALSE
SUMMARY:April Business before Business
DESCRIPTION:Morning networking event\, no cost to attend. Bring lots of business cards and network with your fellow Chamber members and business professionals.\n\n\n\nWhere: High school at Vancouver Island University\n\nWhen: 7:30am - 8:30am
X-ALT-DESC;FMTTYPE=text/html:Morning networking event\, no cost to attend. Bring lots of business cards and network with your fellow Chamber members and business professionals.<br />\n<br />\n<strong>Where:</strong> High school at Vancouver Island University<br />\n<strong>When:</strong> 7:30am - 8:30am<br />\n&nbsp\;
LOCATION:High School at Vancouver Island University 900 Fifth St.\, Bldg 350
UID:e.1345.201
SEQUENCE:3
DTSTAMP:20260421T080207Z
URL:https://members.nanaimochamber.bc.ca/events/details/april-business-before-business-04-15-2015-201
END:VEVENT

END:VCALENDAR
