BEGIN:VCALENDAR
VERSION:2.0
PRODID:-//ChamberMaster//Event Calendar 2.0//EN
METHOD:PUBLISH
X-PUBLISHED-TTL:P3D
REFRESH-INTERVAL:P3D
CALSCALE:GREGORIAN
BEGIN:VEVENT
DTSTART:20140425T000000Z
DTEND:20140425T020000Z
X-MICROSOFT-CDO-ALLDAYEVENT:FALSE
SUMMARY:April Business after Business
DESCRIPTION:After work networking event\, no cost to attend. Bring lots of business cards and network with your fellow Chamber members and business professionals.\n\n \n\nWhere: U-Lock Mini Storage\, 4388 Wellington Rd.
X-ALT-DESC;FMTTYPE=text/html:<span style="font-size: 9pt"><span style="color: #252525"><span style="font-family: arial\, sans-serif">After work networking event\, no cost to attend. Bring lots of business cards and network with your fellow Chamber members and business professionals.</span></span></span><br />\n<span _fck_bookmark="1" style="display: none">&nbsp\;</span><br />\n<strong>Where:</strong> U-Lock Mini Storage\, 4388 Wellington Rd.<br />\n&nbsp\;
LOCATION:U-Lock Mini Storage 4388 Wellington Rd.
UID:e.1345.123
SEQUENCE:3
DTSTAMP:20260422T020418Z
URL:https://members.nanaimochamber.bc.ca/events/details/april-business-after-business-04-24-2014-123
END:VEVENT

END:VCALENDAR
