BEGIN:VCALENDAR
VERSION:2.0
PRODID:-//ChamberMaster//Event Calendar 2.0//EN
METHOD:PUBLISH
X-PUBLISHED-TTL:P3D
REFRESH-INTERVAL:P3D
CALSCALE:GREGORIAN
BEGIN:VEVENT
DTSTART:20150424T000000Z
DTEND:20150424T020000Z
X-MICROSOFT-CDO-ALLDAYEVENT:FALSE
SUMMARY:April Business after Business
DESCRIPTION:After work networking event\, no cost to attend. Bring lots of business cards and network with your fellow Chamber members and business professionals.\n\n \n\nWhere: Cline Medical Centre\, 233 Prideaux St.
X-ALT-DESC;FMTTYPE=text/html:<span style="font-size: 9pt"><span style="color: #252525"><span style="font-family: arial\, sans-serif">After work networking event\, no cost to attend. Bring lots of business cards and network with your fellow Chamber members and business professionals.</span></span></span><br />\n<span _fck_bookmark="1" style="display: none">&nbsp\;</span><br />\n<strong>Where:</strong> Cline Medical Centre\, 233 Prideaux St.<br />\n&nbsp\;
LOCATION:Cline Medical Centre 233 Prideaux St.
UID:e.1345.202
SEQUENCE:3
DTSTAMP:20260421T063615Z
URL:https://members.nanaimochamber.bc.ca/events/details/april-business-after-business-04-23-2015-202
END:VEVENT

END:VCALENDAR
