BEGIN:VCALENDAR
VERSION:2.0
PRODID:-//ChamberMaster//Event Calendar 2.0//EN
METHOD:PUBLISH
X-PUBLISHED-TTL:P3D
REFRESH-INTERVAL:P3D
CALSCALE:GREGORIAN
BEGIN:VEVENT
DTSTART:20140410T180000Z
DTEND:20140410T200000Z
X-MICROSOFT-CDO-ALLDAYEVENT:FALSE
SUMMARY:Annual General Meeting & Membership Luncheon
DESCRIPTION:Annual General Meeting Luncheon\n\nWhere: Vancouver Island Conference Centre\n\nTime: AGM 11:00 - 11:30am\n\n          Buffet begins: 11:30am\n\nWhen: Thursday\, April 10\, 2014\n\nSpeaker: Success Stories Panel Discussion with MC Kevin Evans\n\nCost: Members: $55.00 +GST\; Non-members: $65.00 +GST
X-ALT-DESC;FMTTYPE=text/html:<span style="color:#6666ff\;"><strong>Annual General Meeting Luncheon</strong></span><br />\n<strong>Where:</strong> Vancouver Island Conference Centre<br />\n<strong>Time:</strong> AGM 11:00 - 11:30am<br />\n&nbsp\;&nbsp\;&nbsp\;&nbsp\;&nbsp\;&nbsp\; &nbsp\;&nbsp\; Buffet begins: 11:30am<br />\n<strong>When:</strong> Thursday\, April 10\, 2014<br />\n<strong>Speaker:</strong> Success Stories Panel Discussion with MC Kevin Evans<br />\n<strong>Cost: </strong>Members: $55.00 +GST\; Non-members: $65.00 +GST
LOCATION:Vancouver Island Conference Centre 101 Gordon St.
UID:e.1345.121
SEQUENCE:3
DTSTAMP:20260422T021805Z
URL:https://members.nanaimochamber.bc.ca/events/details/annual-general-meeting-membership-luncheon-04-10-2014-121
END:VEVENT

END:VCALENDAR
