BEGIN:VCALENDAR
VERSION:2.0
PRODID:-//ChamberMaster//Event Calendar 2.0//EN
METHOD:PUBLISH
X-PUBLISHED-TTL:P3D
REFRESH-INTERVAL:P3D
CALSCALE:GREGORIAN
BEGIN:VEVENT
DTSTART:20150408T180000Z
DTEND:20150408T200000Z
X-MICROSOFT-CDO-ALLDAYEVENT:FALSE
SUMMARY:Annual General Meeting & Membership Luncheon
DESCRIPTION:Annual General Meeting Luncheon\n\nWhere: Coast Bastion Hotel\n\nTime: AGM 11:00 - 11:20am\n\n          Buffet begins: 11:30am\n\nWhen: Wednesday\, April 8\, 2015\n\nSpeaker: Honourable Michelle Rempel\,\n\n               Minister of State (Western Economic Diversification)\n\nGuest:     Honourable John Duncan\,\n\n               Minister of State and Chief Government Whip\n\nSponsor:  Aspengrove School\n\nCost: Members: $34.00 +GST\; Non-members: $50.00 +GST\n\n\n\nCancellation Policy\n\nThe Greater Nanaimo Chamber of Commerce maintains a 48 hour minimum (2 business days) cancellation policy for all Chamber events. Cancellations made with less than 48 hours? notice are not eligible for a refund.  Unpaid registrations will be invoiced. This includes any function for which a charge is made. If you are unable to attend an event for which you have registered\, consider offering your spot to a colleague\, staff member or customer as a gift. There is no additional charge to transfer your registration to someone else. Simply notify the Chamber by calling 250-756-1191.\n\nThank you for your cooperation.
X-ALT-DESC;FMTTYPE=text/html:<span style="color:#6666ff\;"><strong>Annual General Meeting Luncheon</strong></span><br>\n<strong>Where:</strong> Coast Bastion Hotel<br>\n<strong>Time:</strong> AGM 11:00 - 11:20am<br>\n&nbsp\;&nbsp\;&nbsp\;&nbsp\;&nbsp\;&nbsp\; &nbsp\;&nbsp\; Buffet begins: 11:30am<br>\n<strong>When:</strong> Wednesday\, April 8\, 2015<br>\n<strong>Speaker:</strong> Honourable Michelle Rempel\,<br>\n&nbsp\;&nbsp\;&nbsp\;&nbsp\;&nbsp\;&nbsp\;&nbsp\;&nbsp\;&nbsp\;&nbsp\;&nbsp\;&nbsp\;&nbsp\;&nbsp\; Minister of State (Western Economic Diversification)<br>\n<strong>Guest:&nbsp\;&nbsp\;</strong>&nbsp\;&nbsp\; Honourable John Duncan\,<br>\n&nbsp\;&nbsp\;&nbsp\;&nbsp\;&nbsp\;&nbsp\;&nbsp\;&nbsp\;&nbsp\;&nbsp\;&nbsp\;&nbsp\;&nbsp\;&nbsp\; Minister of State and Chief Government Whip<br>\n<strong>Sponsor:&nbsp\;</strong> Aspengrove School<br>\n<strong>Cost: </strong>Members: $34.00 +GST\; Non-members: $50.00 +GST<br>\n<br>\n<span style="color:#000000\;"><strong>Cancellation Policy</strong><br>\nThe Greater Nanaimo Chamber of Commerce maintains a 48 hour minimum (2 business days) cancellation policy for all Chamber events. Cancellations made with less than 48 hours? notice are not eligible for a refund.&nbsp\; Unpaid registrations will be invoiced. This includes any function for which a charge is made. If you are unable to attend an event for which you have registered\, consider offering your spot to a colleague\, staff member or customer as a gift. There is no additional charge to transfer your registration to someone else. Simply notify the Chamber by calling 250-756-1191.<br>\nThank you for your cooperation.</span>
LOCATION:Coast Bastion Hotel 11 Bastion St.
UID:e.1345.200
SEQUENCE:3
DTSTAMP:20260421T063534Z
URL:https://members.nanaimochamber.bc.ca/events/details/annual-general-meeting-membership-luncheon-04-08-2015-200
END:VEVENT

END:VCALENDAR
