BEGIN:VCALENDAR
VERSION:2.0
PRODID:-//ChamberMaster//Event Calendar 2.0//EN
METHOD:PUBLISH
X-PUBLISHED-TTL:P3D
REFRESH-INTERVAL:P3D
CALSCALE:GREGORIAN
BEGIN:VEVENT
DTSTART:20170412T180000Z
DTEND:20170412T200000Z
X-MICROSOFT-CDO-ALLDAYEVENT:FALSE
SUMMARY:AGM & Membership Luncheon
DESCRIPTION:Annual General Meeting and Membership Luncheon\n\nSponsored by MNP\n\nEver wonder what the future holds for business in Nanaimo? The mid-Island has the greatest strength in economic growth on Vancouver Island. Where is this growth taking us? MNP's Regional Managing Partner James Byrne moderates a panel discussing 3 vital growth areas   Tech\, Tourism and Manufacturing   featuring George Hanson of Vancouver Island Economic Alliance\, Charles Hamer of Sockeye Software\, and Dan Brady of the Nanaimo Hospitality Association. Join the discussion during the Q & A period. Afterwards\, enjoy a brief\, yet exciting\, presentation on the Deep Ocean Discovery Centre.
X-ALT-DESC;FMTTYPE=text/html:Annual General Meeting and Membership Luncheon<br />\nSponsored by MNP<br />\nEver wonder what the future holds for business in Nanaimo? The mid-Island has the greatest strength in economic growth on Vancouver Island. Where is this growth taking us? MNP&rsquo\;s Regional Managing Partner James Byrne moderates a panel discussing 3 vital growth areas &mdash\; Tech\, Tourism and Manufacturing &mdash\; featuring George Hanson of Vancouver Island Economic Alliance\, Charles Hamer of Sockeye Software\, and Dan Brady of the Nanaimo Hospitality Association. Join the discussion during the Q &amp\; A period. Afterwards\, enjoy a brief\, yet exciting\, presentation on the Deep Ocean Discovery Centre.<br />\n&nbsp\;<br />\n&nbsp\;
LOCATION:Vancouver Island Conference Centre 101 Gordon Street AGM: 11 am to 11:30 am Door will be closed at 11 am promptly Regular Membership Luncheon: 11:30 am to 1:00 pm
UID:e.1345.492
SEQUENCE:3
DTSTAMP:20260419T161848Z
URL:https://members.nanaimochamber.bc.ca/events/details/agm-membership-luncheon-492
END:VEVENT

END:VCALENDAR
